BEGIN:VCALENDAR
VERSION:2.0
PRODID:-//ChamberMaster//Event Calendar 2.0//EN
METHOD:PUBLISH
X-PUBLISHED-TTL:P3D
REFRESH-INTERVAL:P3D
CALSCALE:GREGORIAN
BEGIN:VEVENT
DTSTART;VALUE=DATE:20220801
DTEND;VALUE=DATE:20220802
TRANSP:TRANSPARENT
X-MICROSOFT-CDO-ALLDAYEVENT:TRUE
SUMMARY:Reset Day Retreat for Corporates - Wellness Day
DESCRIPTION:Sponsored by Polynesian Spa\n\n\n\nCombining the best from our spa treatments\, therapeutic mineral water bathing and MMR (Mindful Moments Weekend Retreats)\, we are excited to offer a Reset Day Retreat Programme.  This 1-day workshop is a wonderful personal development tool\, helping participants immerse themselves in wellness practices.  Our retreat leaders focus on equipping participants with tools that help to manage the stresses of everyday life\, enhancing habits that lead to wellbeing and better productivity. Our clients leave feeling pampered\, reset\, and rejuvenated after seriously good me-time at our historic bathing and spa complex.
X-ALT-DESC;FMTTYPE=text/html:<u><strong>Sponsored by Polynesian Spa</strong></u><br />\n<br />\nCombining the best from our spa treatments\, therapeutic mineral water bathing and MMR (Mindful Moments Weekend Retreats)\, we are excited to offer a Reset Day Retreat Programme.&nbsp\; This 1-day workshop is a wonderful personal development tool\, helping participants immerse themselves in wellness practices.&nbsp\; Our retreat leaders focus on equipping participants with tools that help to manage the stresses of everyday life\, enhancing habits that lead to wellbeing and better productivity. Our clients leave feeling pampered\, reset\, and rejuvenated after seriously good me-time at our historic bathing and spa complex.&nbsp\;
LOCATION:1000 Hinemoa Street\, Lakeside\, Lake Rotorua
UID:e.2751.3837
SEQUENCE:3
DTSTAMP:20260425T180543Z
URL:https://business.waikatochamber.co.nz/events/details/reset-day-retreat-for-corporates-wellness-day-08-13-2022-3837
END:VEVENT

END:VCALENDAR
