BEGIN:VCALENDAR
VERSION:2.0
PRODID:-//ChamberMaster//Event Calendar 2.0//EN
METHOD:PUBLISH
X-PUBLISHED-TTL:P3D
REFRESH-INTERVAL:P3D
CALSCALE:GREGORIAN
BEGIN:VEVENT
DTSTART:20180411T220000Z
DTEND:20180412T040000Z
X-MICROSOFT-CDO-ALLDAYEVENT:FALSE
SUMMARY:Project Management - The Basic Principles
DESCRIPTION:Effective project management executes and delivers positive change in an organisation. To do this involves technical skills\, such as critical path analysis and Gantt charting\, as well as people skills\, including motivating\, influencing and managing intergroup conflict.\n\n\n\nThis course introduces the basic principles and processes of project management\, as well as the recognition\, assessment and mitigation of risk within projects. It also touches on critical people and cultural issues that are implicit in the management of projects.
X-ALT-DESC;FMTTYPE=text/html:Effective project management executes and delivers positive change in an&nbsp\;organisation. To do this involves technical skills\, such as critical path analysis and Gantt charting\, as well as people skills\, including motivating\, influencing and managing intergroup conflict.<br />\n<br />\nThis course introduces the basic&nbsp\;principles and processes of project management\, as well as the recognition\, assessment and mitigation of risk within projects. It also touches on critical people and cultural issues that are implicit in the management of projects.
LOCATION:University of Waikato CBD Office PWC Building\, 109 Ward St\, Hamilton
UID:e.2751.1102
SEQUENCE:3
DTSTAMP:20260423T091148Z
URL:https://business.waikatochamber.co.nz/events/details/project-management-the-basic-principles-1102
END:VEVENT

END:VCALENDAR
