BEGIN:VCALENDAR
VERSION:2.0
PRODID:-//ChamberMaster//Event Calendar 2.0//EN
METHOD:PUBLISH
X-PUBLISHED-TTL:P3D
REFRESH-INTERVAL:P3D
CALSCALE:GREGORIAN
BEGIN:VEVENT
DTSTART:20170725T000000Z
DTEND:20170725T060000Z
X-MICROSOFT-CDO-ALLDAYEVENT:FALSE
SUMMARY:Pro Waikato
DESCRIPTION:
X-ALT-DESC;FMTTYPE=text/html:
LOCATION:Gallagher Events Room 1\, Wintec\, City Campus
UID:e.2751.61
SEQUENCE:3
DTSTAMP:20260424T000155Z
URL:https://business.waikatochamber.co.nz/events/details/pro-waikato-61
END:VEVENT

END:VCALENDAR
