BEGIN:VCALENDAR
VERSION:2.0
PRODID:-//ChamberMaster//Event Calendar 2.0//EN
METHOD:PUBLISH
X-PUBLISHED-TTL:P3D
REFRESH-INTERVAL:P3D
CALSCALE:GREGORIAN
BEGIN:VEVENT
DTSTART:20200520T000000Z
DTEND:20200520T010000Z
X-MICROSOFT-CDO-ALLDAYEVENT:FALSE
SUMMARY:Practical Business Guide - Everyday Innovation with Jeremy Suisted from Creativate
DESCRIPTION:The past months have highlighted the critical need for innovation skills among New Zealand business owners and leaders. Developing these capabilities allows you to respond quickly to change\, unlock new value for your customers\, and create a unique competitive edge to your business.\n\n \n\nJoin Jeremy for an engaging and applicable session providing you with both an understanding of innovation capabilities and an innovation tool-kit to begin applying to your business.
X-ALT-DESC;FMTTYPE=text/html:<span style="font-size:12px\;"><span style="font-family:arial\;">The past months have highlighted the critical need for innovation skills among New Zealand business owners and leaders. Developing these capabilities allows you to respond quickly to change\, unlock new value for your customers\, and create a unique competitive edge to your business.<br />\n&nbsp\;<br />\nJoin Jeremy for an engaging and applicable session providing you with both an understanding of innovation capabilities and an innovation tool-kit to begin applying to your business.<br />\n&nbsp\;<br />\n&nbsp\;</span></span>
LOCATION:Webinar - the link to join will be included in the confirmation email sent once you have registered.
UID:e.2751.2724
SEQUENCE:3
DTSTAMP:20260421T182802Z
URL:https://business.waikatochamber.co.nz/events/details/practical-business-guide-everyday-innovation-with-jeremy-suisted-from-creativate-2724
END:VEVENT

END:VCALENDAR
