BEGIN:VCALENDAR
VERSION:2.0
PRODID:-//ChamberMaster//Event Calendar 2.0//EN
METHOD:PUBLISH
X-PUBLISHED-TTL:P3D
REFRESH-INTERVAL:P3D
CALSCALE:GREGORIAN
BEGIN:VEVENT
DTSTART:20200508T000000Z
DTEND:20200508T010000Z
X-MICROSOFT-CDO-ALLDAYEVENT:FALSE
SUMMARY:Practical Business Guide - Cyber Security
DESCRIPTION:Are you working from home?  With only having 2 days to prepare for Alert Level 4 did you get the right policies\, equipment and protection in place?\n\n\n\nCome and chat with Finn Jolly\, Cyber Security Expert and the local team from The Instillery to make sure you are safe\, identify what potential weaknesses are in your systems to help ensure your'e not the next victim of a cyber attack.
X-ALT-DESC;FMTTYPE=text/html:<span style="font-family: arial\, &quot\;helvetica neue&quot\;\, helvetica\, sans-serif\; font-size: 12px\; font-variant-numeric: normal\; font-variant-east-asian: normal\;">Are you working from home?&nbsp\; With only having 2 days to prepare for Alert Level 4 did you get the right policies\, equipment and protection in place?</span><br style="font-family: arial\, &quot\;helvetica neue&quot\;\, helvetica\, sans-serif\; font-size: 12px\; font-variant-numeric: normal\; font-variant-east-asian: normal\;" />\n<br style="font-family: arial\, &quot\;helvetica neue&quot\;\, helvetica\, sans-serif\; font-size: 12px\; font-variant-numeric: normal\; font-variant-east-asian: normal\;" />\n<span style="font-family: arial\, &quot\;helvetica neue&quot\;\, helvetica\, sans-serif\; font-size: 12px\; font-variant-numeric: normal\; font-variant-east-asian: normal\;">Come and chat with Finn Jolly\, Cyber Security Expert and the local team from The Instillery to make sure you are safe\, identify what potential weaknesses are in your systems to help ensure your&#39\;e not the next victim of a cyber attack.</span>
LOCATION:Webinar - the link to join this webinar will be emailed with your confirmation email once registered.
UID:e.2751.2720
SEQUENCE:3
DTSTAMP:20260421T182215Z
URL:https://business.waikatochamber.co.nz/events/details/practical-business-guide-cyber-security-2720
END:VEVENT

END:VCALENDAR
