BEGIN:VCALENDAR
VERSION:2.0
PRODID:-//ChamberMaster//Event Calendar 2.0//EN
METHOD:PUBLISH
X-PUBLISHED-TTL:P3D
REFRESH-INTERVAL:P3D
CALSCALE:GREGORIAN
BEGIN:VEVENT
DTSTART:20200827T040000Z
DTEND:20200827T060000Z
X-MICROSOFT-CDO-ALLDAYEVENT:FALSE
SUMMARY:POSTPONED BA4: Waikato Real Estate
DESCRIPTION:POSTPONED until further notice \n\n\n\nJoin us for our August BA4 hosted by Waikato Real Estate\n\n\n\nEstablished in 1985 by local Waikato couple\, Michael and Christine Murray\, Waikato Real Estate (WRE)   Specialist Property Management   is a family owned business\, born and bred in the Waikato. WRE is a local\, independent and agile company built with passion and purpose to provide their clients with superior property management service to take the hassle out of owning a rental property.\n\n \n\nWRE is no ordinary property management company. WRE understands that their client's property goals are unique so they provide a tailored\, personalised service aligned to their client's goals helping them achieve their property goals faster (and with less grey hairs\, says Michael and Christine's daughter Michelle)\n\n \n\nWRE Property Managers are also property investors like many of you! Owner\, Michael Murray\, said he enjoys working with smart\, driven people who could manage their rental property themselves but just don't want to. He believes property management should be a passive investment\,  giving their clients the FREEDOM to do what they really want.
X-ALT-DESC;FMTTYPE=text/html:<span style="font-size:20px\;">POSTPONED until further notice&nbsp\;</span><br />\n<br />\nJoin us for our August BA4 hosted by Waikato Real Estate<br />\n<br />\nEstablished in 1985 by local Waikato couple\, Michael and Christine Murray\, Waikato Real Estate (WRE) &ndash\; Specialist Property Management &ndash\; is a family owned business\, born and bred in the Waikato. WRE is a local\, independent and agile company built with passion and purpose to provide their clients with superior property management service to take the hassle out of owning a rental property.<br />\n&nbsp\;<br />\nWRE is no ordinary property management company. WRE understands that their client&rsquo\;s property goals are unique so they provide a tailored\, personalised service aligned to their client&rsquo\;s goals helping them achieve their property goals faster (and with less grey hairs\, says Michael and Christine&rsquo\;s daughter Michelle)<br />\n&nbsp\;<br />\nWRE Property Managers are also property investors like many of you! Owner\, Michael Murray\, said he enjoys working with smart\, driven people who could manage their rental property themselves but just don&rsquo\;t want to. He believes property management should be a passive investment\,&nbsp\; giving their clients the FREEDOM to do what they really want.<br />\n&nbsp\;
LOCATION:Waikato Real Estate\, 757 Te Rapa Road\, Hamilton\, 3200
UID:e.2751.2756
SEQUENCE:3
DTSTAMP:20260421T132806Z
URL:https://business.waikatochamber.co.nz/events/details/postponed-ba4-waikato-real-estate-2756
END:VEVENT

END:VCALENDAR
