BEGIN:VCALENDAR
VERSION:2.0
PRODID:-//ChamberMaster//Event Calendar 2.0//EN
METHOD:PUBLISH
X-PUBLISHED-TTL:P3D
REFRESH-INTERVAL:P3D
CALSCALE:GREGORIAN
BEGIN:VEVENT
DTSTART:20200909T040000Z
DTEND:20200909T060000Z
X-MICROSOFT-CDO-ALLDAYEVENT:FALSE
SUMMARY:Pop-up Business Expo 2020
DESCRIPTION:The Pop-Up Business Expo is the 'little brother' to our Premium Business Expos. join like-minded businesses and enjoy the opportunity to network\, promote your products and services\, strengthen existing relationships\, meet new contacts and uncover opportunities o grow your business in a quickfire environment.\n\n\n\nThe Business Expo supplies a table (90cm x 90cm or similar)\, you bring your pull-up banner (upto 90cm base)\, business cards and flyers\, set up from 3pm and at 4pm the fun begins!\n\n\n\nBe quick to book as there are a limited number of spaces available. \n\n\n\nBook online at www.jigsawsolutions.biz/events\n\n\n\nVisitors are free to attend.
X-ALT-DESC;FMTTYPE=text/html:The Pop-Up Business Expo is the &#39\;little brother&#39\; to our Premium Business Expos. join like-minded businesses and enjoy the opportunity to network\, promote your products and services\, strengthen existing relationships\, meet new contacts and uncover opportunities o grow your business in a quickfire environment.<br />\n<br />\nThe Business Expo supplies a table (90cm x 90cm or similar)\, you bring your pull-up banner (upto 90cm base)\, business cards and flyers\, set up from 3pm and at 4pm the fun begins!<br />\n<br />\nBe quick to book as there are a limited number of spaces available.&nbsp\;<br />\n<br />\nBook online at www.jigsawsolutions.biz/events<br />\n<br />\nVisitors are free to attend.
LOCATION:The Atrium\, Wintec
UID:e.2751.2761
SEQUENCE:3
DTSTAMP:20260421T132344Z
URL:https://business.waikatochamber.co.nz/events/details/pop-up-business-expo-2020-2761
END:VEVENT

END:VCALENDAR
