BEGIN:VCALENDAR
VERSION:2.0
PRODID:-//ChamberMaster//Event Calendar 2.0//EN
METHOD:PUBLISH
X-PUBLISHED-TTL:P3D
REFRESH-INTERVAL:P3D
CALSCALE:GREGORIAN
BEGIN:VEVENT
DTSTART:20200604T000000Z
DTEND:20200604T010000Z
X-MICROSOFT-CDO-ALLDAYEVENT:FALSE
SUMMARY:Online Business Briefing - Economic Update with Brad Olsen - Sponsored by Asset Recruitment (Session 8)
DESCRIPTION:Brad Olsen will join us once again to give an update on the economic effects and response to COVID-19.\n\n \n\nBrad Olsen is a Senior Economist at Infometrics. He is responsible for interacting with clients and providing key regional economic insights. Brad often writes industry- and region-specific economic analysis articles\, focusing on current and emerging trends as well as key topics of interest to clients.\n\n \n\nThis series is kindly sponsored by Asset Recruitment
X-ALT-DESC;FMTTYPE=text/html:<div>Brad Olsen will join us once again to give an update on the economic effects and response to COVID-19.<br />\n&nbsp\;<br />\nBrad Olsen is a Senior Economist at Infometrics. He is responsible for interacting with clients and providing key regional economic insights. Brad often writes industry- and region-specific economic analysis articles\, focusing on current and emerging trends as well as key topics of interest to clients.<br />\n&nbsp\;</div>\n\n<div style="text-align: left\;"><span style="font-size:14px"><span style="font-family:arial\,helvetica neue\,helvetica\,sans-serif">This series is kindly sponsored by Asset Recruitment</span></span></div>\n
LOCATION:Webinar - the link to join will be in the confirmation email sent once registered.
UID:e.2751.2734
SEQUENCE:3
DTSTAMP:20260421T165248Z
URL:https://business.waikatochamber.co.nz/events/details/online-business-briefing-economic-update-with-brad-olsen-sponsored-by-asset-recruitment-session-8-2734
END:VEVENT

END:VCALENDAR
