BEGIN:VCALENDAR
VERSION:2.0
PRODID:-//ChamberMaster//Event Calendar 2.0//EN
METHOD:PUBLISH
X-PUBLISHED-TTL:P3D
REFRESH-INTERVAL:P3D
CALSCALE:GREGORIAN
BEGIN:VEVENT
DTSTART:20200515T000000Z
DTEND:20200515T010000Z
X-MICROSOFT-CDO-ALLDAYEVENT:FALSE
SUMMARY:Online Business Briefing - Economic Update with Brad Olsen - Sponsored by Asset Recruitment (Session 7)
DESCRIPTION:Brad Olsen is a senior Economist from Infometrics \n\nThis series is kindly sponsored by Asset Recruitment
X-ALT-DESC;FMTTYPE=text/html:<div><font face="arial\, helvetica neue\, helvetica\, sans-serif"><span style="font-size: 14px\;">Brad Olsen is a senior Economist from Infometrics&nbsp\;</span></font></div>\n\n<div style="text-align: left\;"><span style="font-size:14px"><span style="font-family:arial\,helvetica neue\,helvetica\,sans-serif">This series is kindly sponsored by Asset Recruitment</span></span></div>\n
LOCATION:Webinar - the link to join will be in the confirmation email sent once registered.
UID:e.2751.2722
SEQUENCE:3
DTSTAMP:20260421T183953Z
URL:https://business.waikatochamber.co.nz/events/details/online-business-briefing-economic-update-with-brad-olsen-sponsored-by-asset-recruitment-session-7-2722
END:VEVENT

END:VCALENDAR
