BEGIN:VCALENDAR
VERSION:2.0
PRODID:-//ChamberMaster//Event Calendar 2.0//EN
METHOD:PUBLISH
X-PUBLISHED-TTL:P3D
REFRESH-INTERVAL:P3D
CALSCALE:GREGORIAN
BEGIN:VEVENT
DTSTART:20200827T000000Z
DTEND:20200827T010000Z
X-MICROSOFT-CDO-ALLDAYEVENT:FALSE
SUMMARY:Online Business Briefing - Economic Update with Brad Olsen
DESCRIPTION:What affects will the current alert levels have on our economy? Brad Olsen will once again join us to discuss the economic impacts\, outlook and affects\, especially on the Waikato region. \n\n\n\nPlease join us on Thursday and stay connected
X-ALT-DESC;FMTTYPE=text/html:<div><span style="font-family:arial\,sans-serif\;">What affects will the current alert levels have&nbsp\;on our economy? Brad Olsen will once again join us to discuss the economic impacts\, outlook and affects\, especially on the Waikato region.&nbsp\;</span><br />\n<br />\n<span style="font-family:arial\,sans-serif\;">Please join us on Thursday and stay connected</span><br />\n&nbsp\;</div>\n
LOCATION:Webinar - the link to join will be in the confirmation email sent once registered.
UID:e.2751.2763
SEQUENCE:3
DTSTAMP:20260421T132604Z
URL:https://business.waikatochamber.co.nz/events/details/online-business-briefing-economic-update-with-brad-olsen-2763
END:VEVENT

END:VCALENDAR
