BEGIN:VCALENDAR
VERSION:2.0
PRODID:-//ChamberMaster//Event Calendar 2.0//EN
METHOD:PUBLISH
X-PUBLISHED-TTL:P3D
REFRESH-INTERVAL:P3D
CALSCALE:GREGORIAN
BEGIN:VEVENT
DTSTART:20200814T000000Z
DTEND:20200814T010000Z
X-MICROSOFT-CDO-ALLDAYEVENT:FALSE
SUMMARY:Online Business Briefing - Economic Update with Brad Olsen
DESCRIPTION:Due to the potential magnitude of negative effects on our Economic Recovery caused by today's Lockdown we have asked Brad Olsen to join us to explain what he and Infometrics see will be the consequences for Auckland and New Zealand business\n\n\n\nThis Friday from 12 to 1pm we will have a webinar with Brad to discuss the ramifications these cases in Auckland will have on Business\n\nA Wild W was the outcome most of our Economic Recovery Forum attendees predicted\, although none would have expected it to be this quick.\n\n\n\nPlease join us on Friday and stay connected
X-ALT-DESC;FMTTYPE=text/html:<div><span style="font-family:arial\,sans-serif\;">Due to the potential magnitude of negative effects on our Economic Recovery caused by&nbsp\;today&rsquo\;s Lockdown we have asked Brad Olsen to join us to explain what he and Infometrics see will be the consequences for Auckland and New Zealand business</span><br />\n<br />\n<span style="font-family:arial\,sans-serif\;">This Friday from 12 to 1pm we will have a webinar with Brad to discuss the ramifications these cases&nbsp\;in Auckland will have on Business</span><br />\n<span style="font-family:arial\,sans-serif\;">A Wild W was the outcome most of our Economic Recovery Forum attendees predicted\, although none would have expected it to be this quick.</span><br />\n<br />\n<span style="font-family:arial\,sans-serif\;">Please join us on Friday and stay connected</span><br />\n&nbsp\;</div>\n
LOCATION:Webinar - the link to join will be in the confirmation email sent once registered.
UID:e.2751.2762
SEQUENCE:3
DTSTAMP:20260421T132604Z
URL:https://business.waikatochamber.co.nz/events/details/online-business-briefing-economic-update-with-brad-olsen-2762
END:VEVENT

END:VCALENDAR
