BEGIN:VCALENDAR
VERSION:2.0
PRODID:-//ChamberMaster//Event Calendar 2.0//EN
METHOD:PUBLISH
X-PUBLISHED-TTL:P3D
REFRESH-INTERVAL:P3D
CALSCALE:GREGORIAN
BEGIN:VEVENT
DTSTART:20220922T210000Z
DTEND:20220925T030000Z
X-MICROSOFT-CDO-ALLDAYEVENT:FALSE
SUMMARY:NZMCA Motorhome\, Caravan & Leisure Show
DESCRIPTION:The NZMCA Motorhome\, Caravan & Leisure Show takes over Mystery Creek next month   and is all set to be the biggest ever\, with more motorhomes & caravans\, more exhibitors now filling 2 pavilions & 2 marquees\, and even more outside exhibitor sites.   It will be bursting with everything you love when exploring our beautiful country in your motorhome\, caravan or pop top camper.   \nOne of our newest features is the TrailLite Pavilion. TrailLite is now in their own building situated on the eastern side of the main pavilion\, full of all things TrailLite.   This is also the new home of the popular TrailLite Theatre\, which is fully booked with experts in their field\; to inspire you with eight full presentations each day.  The Campers  Entrance to the show is now located on the left of the pavilion\, flanked by a full complement of exhibitors situated along the lane.\n\n\n\nWhen looking for accessories\, there are a vast range on offer.  The Accessories Marquee is jam packed full of your favourite products\, new gadgets and incredible innovations.  The Off the Beaten Track Travel NZ Marquee is home to Regional Tour organisations and operators with loads of amazing ideas of cool stuff for you to try\, do and experience.  Two marquees both packed with ideas to make your life on the road even better.\n\n\n\nEvent Manager Michele Connell is proud to see this show grow\, after an extremely challenging 2021\; " Having to cancel our show last year was such a hard decision to make. We are truly thrilled to be back this year with a bigger show that we have been trying to deliver for over 2 years. The industry has not had a show in over a year and half\, so we are working hard to make sure this one is unforgettable.  We look forwarding to a successful 3 days for exhibitors and an inspiring few days for our visitors".\n\n\n\nYou will love the all new Retro Lane now found on the Village Green\, outside the double doors of the main pavilion.  The beautifully refurbished vintage caravans\, cars & vans will be proudly displayed over the weekend\, open for you to have a good look through with their owners close by\, always keen for a chat about their work. \n\n \n\nOur Seat & Eat also has a new space\, on the grass area opposite Retro Lane. There will be wide variety of foodies on site\, as well as additional seating and shade cover and our show singer Steve Crossland\, ready to keep you entertained over lunch time.  Inside the Pavilion\, visit our all-new Cherry Tree Caf  for some lunchtime treats\, and admire the NZMCAs beautifully refurbished 1928 REO Speed Wagon right next door.\n\n\n\nThis show is the home of the largest Event Park and Stay in New Zealand\, so come along and make a weekend of it.  Stay on site for only $10 for all 3 days and choose our multi day pass which provides unlimited access over the 3 days for only $28.
X-ALT-DESC;FMTTYPE=text/html:<h2><span style="font-family:arial\,helvetica\,sans-serif"><span style="font-size:14px"><span style="color:black">The NZMCA Motorhome\, Caravan &amp\; Leisure Show takes over Mystery Creek next month &hellip\; and is all set to be the biggest ever\, with more motorhomes &amp\; caravans\, more exhibitors now filling 2 pavilions &amp\; 2 marquees\, and even more outside exhibitor sites.&nbsp\;&nbsp\; It will be bursting with everything you love when exploring our beautiful country in your motorhome\, caravan or pop top camper.&nbsp\;&nbsp\; </span></span></span></h2>\n<span style="font-size:14px"><span style="font-family:arial\,helvetica\,sans-serif"><span style="color:black">One of our newest features is the TrailLite Pavilion. TrailLite is now in their own building situated on the eastern side of the main pavilion\, full of all things TrailLite.&nbsp\;&nbsp\; This is also the new home of the</span><span style="color:black"> popular TrailLite Theatre\, which is fully booked with experts in their field\; to inspire you with eight full presentations each day. &nbsp\;The Campers&nbsp\; Entrance to the show is now located on the left of the pavilion\, flanked by a full complement of exhibitors situated along the lane.</span><br />\n<br />\n<span style="color:black">When looking for accessories\, there are a vast range on offer. &nbsp\;The Accessories Marquee is jam packed full of your favourite products\, new gadgets and incredible innovations. &nbsp\;The Off the Beaten Track Travel NZ Marquee is home to Regional Tour organisations and operators with loads of amazing ideas of cool stuff for you to try\, do and experience.&nbsp\; Two marquees both packed with ideas to make your life on the road even better.</span><br />\n<br />\n<span style="color:black">Event Manager Michele Connell is proud to see this show grow\, after an extremely challenging 2021\; &ldquo\; Having to cancel our show last year was such a hard decision to make. We are truly thrilled to be back this year with a bigger show that we have been trying to deliver for over 2 years. The industry has not had a show in over a year and half\, so we are working hard to make sure this one is unforgettable.&nbsp\; We look forwarding to a successful 3 days for exhibitors and an inspiring few days for our visitors&rdquo\;.</span><br />\n<br />\n<span style="color:black">You will love the all new Retro Lane now found on the Village Green\, outside the double doors of the main pavilion</span><span style="color:black">.</span><span style="color:black">&nbsp\; The beautifully refurbished </span><span style="color:black">vintage caravans\, cars &amp\; vans will be proudly displayed over the weekend\, open for you to have a good look through with their owners close by\, always keen for a chat about their work. </span><br />\n&nbsp\;<br />\n<span style="color:black">Our Seat &amp\; Eat also has a new space\, on the grass area opposite Retro Lane. There will be wide variety of foodies on site\, as well as additional seating and shade cover and our show singer Steve Crossland\, ready to keep you entertained over lunch time.&nbsp\; Inside the Pavilion\, visit our all-new Cherry Tree Caf&eacute\; for some lunchtime treats\, and admire the </span><span style="color:black">NZMCAs beautifully refurbished 1928 REO Speed Wagon right next door.</span><br />\n<br />\n<span style="color:black">This show is the home of the largest Event Park and Stay in New Zealand\, so come along and make a weekend of it.&nbsp\; Stay on site for only $10 for all 3 days and choose our multi day pass which provides unlimited access over the 3 days for only $28.</span></span></span><br />\n&nbsp\;
LOCATION:Mystery Creek Events Centre 125 Mystery Creek Road Mystery Creek\, Hamilton 3240 New Zealand
UID:e.2751.3937
SEQUENCE:3
DTSTAMP:20260425T180304Z
URL:https://business.waikatochamber.co.nz/events/details/nzmca-motorhome-caravan-leisure-show-3937
END:VEVENT

END:VCALENDAR
