BEGIN:VCALENDAR
VERSION:2.0
PRODID:-//ChamberMaster//Event Calendar 2.0//EN
METHOD:PUBLISH
X-PUBLISHED-TTL:P3D
REFRESH-INTERVAL:P3D
CALSCALE:GREGORIAN
BEGIN:VEVENT
DTSTART:20190702T043000Z
DTEND:20190702T063000Z
X-MICROSOFT-CDO-ALLDAYEVENT:FALSE
SUMMARY:Next Generation Leadership\, with GirlBoss CEO Alexia Hilbertidou
DESCRIPTION:The Waikato Chamber of Commerce is pleased to announce that we are bringing GirlBoss NZ to Hamilton.\n\n\n\nWe invite the community to join us for a unique event\, featuring keynote speaker Alexia Hilbertidou\, CEO of GirlBoss. This is an all-ages event\, where the community are invited to bring their sons and daughters to attend. \n\n\n\nJoin us as we talk to Alexia about creating change\, leadership\, and inspiring the next generation.
X-ALT-DESC;FMTTYPE=text/html:The Waikato Chamber of Commerce is pleased to announce that we are bringing GirlBoss NZ to Hamilton.<br />\n<br />\nWe invite the community to join us for a unique event\, featuring keynote speaker Alexia Hilbertidou\, CEO of GirlBoss. This is an all-ages event\, where the community are invited to bring their sons and daughters to attend.&nbsp\;<br />\n<br />\nJoin us as we talk to Alexia about creating change\, leadership\, and inspiring the next generation.
LOCATION:The Atrium Wintec City Campus
UID:e.2751.2659
SEQUENCE:3
DTSTAMP:20260422T104608Z
URL:https://business.waikatochamber.co.nz/events/details/next-generation-leadership-with-girlboss-ceo-alexia-hilbertidou-2659
END:VEVENT

END:VCALENDAR
