BEGIN:VCALENDAR
VERSION:2.0
PRODID:-//ChamberMaster//Event Calendar 2.0//EN
METHOD:PUBLISH
X-PUBLISHED-TTL:P3D
REFRESH-INTERVAL:P3D
CALSCALE:GREGORIAN
BEGIN:VEVENT
DTSTART:20231122T040000Z
DTEND:20231122T053000Z
X-MICROSOFT-CDO-ALLDAYEVENT:FALSE
SUMMARY:New Member Evening sponsored by Johnston Associates Chartered Accountants
DESCRIPTION:Welcome to the Waikato Chamber Business Community!\n\n\n\nWe invite all of our new and existing members to join our facilitated networking event. To make it extra special\, we're combining our new members meeting with a festive and flavorsome Christmas-themed whiskey tasting event.\n\n\n\nWe encourage all attendee to embrace the festive cheer by wearing your favourite Christmas attire.  Whether its a cozy Santa hat\, a stylish reindeer sweater\, or your most dazzling tinsel accessory\, we want to see your holiday spirit shine!  \n\n\n\nThere will be prizes for best dressed up for grabs! \n\n\n\nThis event is proudly sponsored by Johnston Associates Chartered Accountants.
X-ALT-DESC;FMTTYPE=text/html:<span style="font-size:14px\;">Welcome to the Waikato Chamber Business Community!<br />\n<br />\n<span style="margin: 0px\; padding: 0px\; border: 0px\; outline: 0px\; vertical-align: baseline\; box-sizing: border-box\;"><span style="margin: 0px\; padding: 0px\; border: 0px\; outline: 0px\; font-weight: inherit\; font-style: inherit\; vertical-align: baseline\; box-sizing: border-box\;">We invite all of our new and existing members to join our facilitated networking event. To make it extra special\, we&#39\;re combining our new members meeting with a festive and flavorsome Christmas-themed whiskey tasting event.</span></span><br style="box-sizing: border-box\; color: rgb(0\, 0\, 0)\; font-family: mr-eaves-xl-modern\, sans-serif\; font-size: 15px\;" />\n<br style="box-sizing: border-box\; color: rgb(0\, 0\, 0)\; font-family: mr-eaves-xl-modern\, sans-serif\; font-size: 15px\;" />\n<span style="margin: 0px\; padding: 0px\; border: 0px\; outline: 0px\; vertical-align: baseline\; box-sizing: border-box\;"><span style="margin: 0px\; padding: 0px\; border: 0px\; outline: 0px\; font-weight: inherit\; font-style: inherit\; vertical-align: baseline\; box-sizing: border-box\;">We encourage all attendee to embrace the festive cheer by wearing your favourite Christmas attire.&nbsp\; Whether its a cozy Santa hat\, a stylish reindeer sweater\, or your most dazzling tinsel accessory\, we want to see your holiday spirit shine!&nbsp\;&nbsp\;</span></span><br />\n<br />\nThere will be prizes for best dressed up for grabs!&nbsp\;<br />\n<br />\nThis event is proudly sponsored by <a href="https://jacalsouthisland.nz/" target="_blank"><span style="background-color: rgb(255\, 255\, 255)\;">Johnston Associates Chartered Accountants.</span></a></span>
LOCATION:Good George Dining Hall\, 32A Somerset Street\, Frankton Hamilton
UID:e.2751.4333
SEQUENCE:3
DTSTAMP:20260420T114952Z
URL:https://business.waikatochamber.co.nz/events/details/new-member-evening-sponsored-by-johnston-associates-chartered-accountants-4333
END:VEVENT

END:VCALENDAR
