BEGIN:VCALENDAR
VERSION:2.0
PRODID:-//ChamberMaster//Event Calendar 2.0//EN
METHOD:PUBLISH
X-PUBLISHED-TTL:P3D
REFRESH-INTERVAL:P3D
CALSCALE:GREGORIAN
BEGIN:VEVENT
DTSTART:20220915T053000Z
DTEND:20220915T070000Z
X-MICROSOFT-CDO-ALLDAYEVENT:FALSE
SUMMARY:New Member Evening hosted by Good George
DESCRIPTION:Welcome to the Waikato Chamber Business Community!\n\n\n\nWe invite all of our new and existing members to join our facilitated networking event.  In this event\, you will be welcomed to The Chamber and participate in an activity that will get you up and talking to other like-minded business people.\n\n\n\nThis event is for those who are new to the Chamber of Commerce\, or are wanting to know some more about what the Chamber is\, or if you'd like to meet some new people!\n\n\n\nIf you are looking to expand your networks\, meet others in a facilitated welcoming environment\, this event is for you.
X-ALT-DESC;FMTTYPE=text/html:Welcome to the Waikato Chamber Business Community!<br />\n<br />\nWe invite all of our new and existing members to join our facilitated networking event.&nbsp\; In this event\, you will be welcomed to The Chamber and participate in an activity that will get you up and talking to other like-minded business people.<br />\n<br />\nThis event is for those who are new to the Chamber of Commerce\, or are wanting to know some more about what the Chamber is\, or if you&#39\;d like to meet some new people!<br />\n<br />\nIf you are looking to expand your networks\, meet others in a facilitated welcoming environment\, this event is for you.&nbsp\;
LOCATION:Good George Dining Hall\, 32A Somerset Street\, Frankton Hamilton
UID:e.2751.3932
SEQUENCE:3
DTSTAMP:20260425T191814Z
URL:https://business.waikatochamber.co.nz/events/details/new-member-evening-hosted-by-good-george-3932
END:VEVENT

END:VCALENDAR
