BEGIN:VCALENDAR
VERSION:2.0
PRODID:-//ChamberMaster//Event Calendar 2.0//EN
METHOD:PUBLISH
X-PUBLISHED-TTL:P3D
REFRESH-INTERVAL:P3D
CALSCALE:GREGORIAN
BEGIN:VEVENT
DTSTART;VALUE=DATE:20180430
DTEND;VALUE=DATE:20180503
TRANSP:TRANSPARENT
X-MICROSOFT-CDO-ALLDAYEVENT:TRUE
SUMMARY:New Kiwi Career Success Programme
DESCRIPTION:New Kiwi Career Success is a FREE 3 day training course and follow up workshop to help new migrants to job search effectively in New Zealand.  This course is available in Auckland\, Hamilton\, Tauranga\, Rotorua and Whangarei and is delivered by the New Zealand Chamber of Commerce network.\n\n"Fantastic! Energize me with positive attitude and hope. Gained a lot of new knowledge about kiwi attitude\, kiwi life style\, kiwi employer and what they expect from us when they search for a new employee." \n\n \n\nHere's what you will learn:\n\n\n	Practical job search advice on the New Zealand job market for migrants new to New Zealand (less than 2 yrs)\n	Assist you to create a great\, Kiwi-style CV\n	Help you to answer those tricky interview questions\n	Research your industry and occupation\n	Share your experience with other New Kiwis\n	Develop a winning job search strategy just for you!!\n\n\nHere's what you do:\n\n\n	Register as a Job Seeker on New Kiwis\n	Attend 3 days New Kiwi Career Success course\n	Attend follow-up workshop\n	Keep in regular contact with us\n\n\nTo register on the next available course in your town\n\n\n	Register on New Kiwis as a job seeker\n	Email nkcs@chamber.co.nzwith the course you would like to attend. Please include the completed form here and your CV\n	Call us 0800 709 907\n\n\n*Note these courses fill up quickly\, we will let you know the soonest available date if your first choice is full.\n\nAm I eligible to attend?\n\n\n	Legally able to work in New Zealand\, must have a valid work visa or residency\n	This course is not available for student or working holiday visa holders\n	If you are not sure if you are eligible\, please email us on the below email.
X-ALT-DESC;FMTTYPE=text/html:<p>New Kiwi Career Success is a FREE 3 day training course and follow up workshop to help new migrants to job search effectively in New Zealand.&nbsp\; This course is available in Auckland\, Hamilton\, Tauranga\, Rotorua and Whangarei and is delivered by the <strong>New Zealand Chamber of Commerce</strong> network.</p>\n\n<p><em>&ldquo\;Fantastic! Energize me with positive attitude and hope. Gained a lot of new knowledge about kiwi attitude\, kiwi life style\, kiwi employer and what they expect from us when they search for a new employee.&rdquo\;&nbsp\;</em><br />\n&nbsp\;</p>\n\n<h2><strong>Here&#39\;s what you will learn:</strong></h2>\n\n<ul>\n	<li>Practical job search advice on the New Zealand job market for migrants new to New Zealand (less than 2 yrs)</li>\n	<li>Assist you to create a great\, Kiwi-style CV</li>\n	<li>Help you to answer those tricky interview questions</li>\n	<li>Research your industry and occupation</li>\n	<li>Share your experience with other New Kiwis</li>\n	<li>Develop a winning job search strategy just for you!!</li>\n</ul>\n\n<h2><strong>Here&rsquo\;s what you do:</strong></h2>\n\n<ul>\n	<li>Register as a Job Seeker on New Kiwis</li>\n	<li>Attend 3 days New Kiwi Career Success course</li>\n	<li>Attend follow-up workshop</li>\n	<li>Keep in regular contact with us</li>\n</ul>\n\n<h2><strong>To register on the next available course in your town</strong></h2>\n\n<ul>\n	<li>Register on New Kiwis as a job seeker</li>\n	<li>Email <a href="mailto:nkcs@chamber.co.nz?subject=WCOC%20Website%20Enquiry">nkcs@chamber.co.nz</a>with the course you would like to attend. Please include&nbsp\;the completed form <a data-id="49597" href="https://www.newkiwis.co.nz/media/1148/nkcs-application-form.pdf" target="_blank" title="NKCS Application Form.pdf"><u>here </u></a>and your CV</li>\n	<li>Call us 0800 709 907</li>\n</ul>\n\n<p><em>*Note these courses fill up quickly\, we will let you know the soonest available date if your first choice is full.</em></p>\n\n<h2><strong>Am I eligible to attend?</strong></h2>\n\n<ul>\n	<li>Legally able to work in New Zealand\, must have a valid work visa or residency</li>\n	<li>This course is not available for student or working holiday visa holders</li>\n	<li>If you are not sure if you are eligible\, please email us on the below email.&nbsp\;</li>\n</ul>\n
LOCATION:Wintec Rotokauri Campus
UID:e.2751.1080
SEQUENCE:3
DTSTAMP:20260423T093142Z
URL:https://business.waikatochamber.co.nz/events/details/new-kiwi-career-success-programme-1080
END:VEVENT

END:VCALENDAR
