BEGIN:VCALENDAR
VERSION:2.0
PRODID:-//ChamberMaster//Event Calendar 2.0//EN
METHOD:PUBLISH
X-PUBLISHED-TTL:P3D
REFRESH-INTERVAL:P3D
CALSCALE:GREGORIAN
BEGIN:VEVENT
DTSTART;VALUE=DATE:20180319
DTEND;VALUE=DATE:20180320
TRANSP:TRANSPARENT
X-MICROSOFT-CDO-ALLDAYEVENT:TRUE
SUMMARY:MS Excel Fundamentals
DESCRIPTION:Make sure the numbers always add up!\n\n\n\nMS Excel allows anyone to keep their figures straight. Stay on top of budgets\, payrolls and staff.\n\n\n\nA staple of the business world\, Microsoft Excel allows you to track the numbers in the company. From staff holidays to how much you're spending on coffee in the office\, even those without a strong grasp of maths find it easy with this software.  In this course\, you will learn the basics of excel and how to use it to be more productive across basic tasks\, both in and outside the office. You'll learn skills from how to balance budgets through to presenting numbers in visual charts.
X-ALT-DESC;FMTTYPE=text/html:<div>\n<h3><br />\n<span style="font-size:16px">Make sure the numbers always add up!</span></h3>\n</div>\n\n<div>\n<div><span style="font-size:16px">MS Excel allows anyone to keep their figures straight. Stay on top of budgets\, payrolls and staff.</span><br />\n<br />\n<span style="font-size:14px"><span style="color:rgb(55\, 58\, 60)\; font-family:source sans pro\,arial\,tahoma\,sans-serif">A staple of the business world\, Microsoft Excel allows you to track the numbers in the company. From staff holidays to how much you&rsquo\;re spending on coffee in the office\, even those without a strong grasp of maths find it easy with this software.&nbsp\;</span>&nbsp\;<span style="color:rgb(55\, 58\, 60)\; font-family:source sans pro\,arial\,tahoma\,sans-serif">In this course\, you will learn the basics of excel and how to use it to be more productive across basic tasks\, both in and outside the office. You&rsquo\;ll learn skills from how to balance budgets through to presenting numbers in visual charts.</span></span></div>\n</div>\n
LOCATION:Wintec City Campus Gate 3 Tristram Street Hamilton 3240
UID:e.2751.1261
SEQUENCE:3
DTSTAMP:20260423T111111Z
URL:https://business.waikatochamber.co.nz/events/details/ms-excel-fundamentals-1261
END:VEVENT

END:VCALENDAR
