BEGIN:VCALENDAR
VERSION:2.0
PRODID:-//ChamberMaster//Event Calendar 2.0//EN
METHOD:PUBLISH
X-PUBLISHED-TTL:P3D
REFRESH-INTERVAL:P3D
CALSCALE:GREGORIAN
BEGIN:VEVENT
DTSTART:20260528T000000Z
DTEND:20260528T010000Z
X-MICROSOFT-CDO-ALLDAYEVENT:FALSE
SUMMARY:Midday Masterclass - Employment Law Updates: Key Insights for Employers
DESCRIPTION:Employment law is constantly evolving\, and staying on top of the latest changes is critical for every employer.\n\n\n\nJoin Jaime Lomas\, Director at DTI Lawyers\, for a practical and up to date overview of key developments in New Zealand employment law\, and what they mean for your business in real terms.\n\n\n\nIn this employer focused session\, Jaime will unpack:\n\n  The Employment Relations Amendment Act\, including:\n\n      How the reform impacts disciplinary and performance management processes\n\n      The new personal grievance income threshold\, and how it impacts negotiations and senior employee exits\n\n      The new contractor gateway test\n\n      Updates to personal grievance remedies\n\n  Employee exit discussions - how and when to approach "we'd like you to leave" conversations\, and how to manage these appropriately\n\n  KiwiSaver obligations - ensuring you are meeting your good faith and compliance requirements as an employer\n\n\n\nWalk away with clear\, practical insights you can apply immediately to reduce risk and manage your people with confidence.\n\n\n\n\n\nPRESENTER: Jaime Lomas\, Director and Employment Law Specialist\, DTI Lawyers \n\nJaime is a highly experienced\, specialist employment lawyer. Jaime joined DTI Lawyers in 2018 after spending the previous 10 years working in the specialist employment and resource management team of a large Hamilton firm. She became a Director of DTI Lawyers in 2020.\n\n\n\n\n\nPlease note - lunch is not provided. You are welcome to bring your own lunch to the session. \n\n\n\nFor enquiries or to cancel your registration email events@waikatochamber.co.nz\n\n\n\nThis is a complimentary event for Chamber members\; if you are unable to attend\, please let us know by the day before\, or a $20+GST no-show fee will apply.\n\n\n\nView our terms and conditions here.
X-ALT-DESC;FMTTYPE=text/html:<p><span style="font-size:14px\;"><span style="font-family:arial\;">Employment law is constantly&nbsp\;evolving\, and staying on top of the latest changes is critical for every employer.<br />\n<br />\nJoin <strong>Jaime Lomas\, Director at DTI Lawyers</strong>\, for a practical and up to date&nbsp\;overview of key developments&nbsp\;in New Zealand employment law\, and what they mean for your business in real terms.<br />\n<br />\nIn this employer focused session\, Jaime will unpack:<br />\n&bull\; <strong>The Employment Relations Amendment Act\, </strong>including:</span></span><br />\n&nbsp\;&nbsp\;&nbsp\;&nbsp\;<span style="font-size:14px\;"><span style="font-family:arial\;">&bull\; How the reform impacts disciplinary and performance management processes</span></span><br />\n&nbsp\;&nbsp\;&nbsp\;&nbsp\;<span style="font-size:14px\;"><span style="font-family:arial\;">&bull\; The new personal grievance income threshold\, and how it impacts negotiations and senior employee exits</span></span><br />\n&nbsp\;&nbsp\;&nbsp\;&nbsp\;<span style="font-size:14px\;"><span style="font-family:arial\;">&bull\; The new contractor gateway test</span></span><br />\n&nbsp\;&nbsp\;&nbsp\;&nbsp\;<span style="font-size:14px\;"><span style="font-family:arial\;">&bull\; Updates to personal&nbsp\;grievance remedies<br />\n&bull\; <strong>Employee exit discussions </strong>- how and when to approach &quot\;we&#39\;d like you to leave&quot\;&nbsp\;conversations\, and how to manage these appropriately<br />\n&bull\; <strong>KiwiSaver obligations</strong> - ensuring you are meeting your good faith and compliance requirements as an employer<br />\n<br />\nWalk away with clear\, practical insights you can apply immediately to reduce risk and manage your people with confidence.<br />\n<br />\n<br />\n<strong>PRESENTER:&nbsp\;</strong></span></span><strong style="font-family: arial\; font-size: 14px\;"><a href="https://www.linkedin.com/in/jaime-lomas-1aa03825/" target="_blank">Jaime Lomas</a></strong><span style="font-size:14px\;"><span style="font-family:arial\;"><strong>\, Director and Employment Law Specialist\, </strong></span></span><strong style="font-family: arial\; font-size: 14px\;"><a href="https://www.dtilawyers.co.nz/" target="_blank">DTI Lawyers</a></strong><span style="font-size:14px\;"><span style="font-family:arial\;"><strong>&nbsp\;</strong></span></span><br />\n<span style="font-family: arial\;"><span style="font-size: 14px\;">Jaime is a highly experienced\, specialist employment lawyer. Jaime joined DTI Lawyers in 2018 after spending the previous 10 years working in the specialist employment and resource management team of a large Hamilton firm. She became a Director of DTI Lawyers in 2020.</span></span><br />\n<br />\n<br />\n<span style="font-family:arial\;"><span style="font-size:14px\;"><span style="margin: 0px\; padding: 0px\; border: 0px\; outline: 0px\; font-weight: bolder\; vertical-align: baseline\; box-sizing: border-box\; color: rgb(0\, 0\, 0)\;"><span style="margin: 0px\; padding: 0px\; border: 0px\; outline: 0px\; font-weight: inherit\; font-style: inherit\; vertical-align: baseline\; box-sizing: border-box\;"><span style="margin: 0px\; padding: 0px\; border: 0px\; outline: 0px\; font-weight: inherit\; font-style: inherit\; vertical-align: baseline\; box-sizing: border-box\;">Please note - lunch is not provided. You are welcome to bring your own lunch to the session.&nbsp\;</span></span></span><br />\n<br />\nFor enquiries or to cancel your registration email&nbsp\;<a href="mailto:events@waikatochamber.co.nz?subject=Midday%20Masterclass%20-%2028%20May" style="font-family: arial\; font-size: 14px\;">events@waikatochamber.co.nz</a><br />\n<br />\n<strong style="font-family: arial\; font-size: 14px\;">This is a complimentary event for Chamber members\; if you are unable to attend\, please let us know by the day before\, or a $20+GST no-show fee will apply.</strong></span></span><br />\n<br />\n<a href="https://www.waikatochamber.co.nz/terms-and-conditions/" style="font-family: arial\; font-size: 14px\;" target="_blank">View our terms and conditions here</a><span style="font-family: arial\; font-size: 14px\;">.</span></p>\n
LOCATION:Gallagher Hub\, Events Room 2\, Wintec CBD. View map here.
UID:e.2751.5213
SEQUENCE:3
DTSTAMP:20260425T033625Z
URL:https://business.waikatochamber.co.nz/events/details/midday-masterclass-employment-law-updates-key-insights-for-employers-5213
END:VEVENT

END:VCALENDAR
