BEGIN:VCALENDAR
VERSION:2.0
PRODID:-//ChamberMaster//Event Calendar 2.0//EN
METHOD:PUBLISH
X-PUBLISHED-TTL:P3D
REFRESH-INTERVAL:P3D
CALSCALE:GREGORIAN
BEGIN:VEVENT
DTSTART:20220921T210000Z
DTEND:20220922T000000Z
X-MICROSOFT-CDO-ALLDAYEVENT:FALSE
SUMMARY:Mental Health Toolkit
DESCRIPTION:With over 500\,000 Kiwi adults diagnosed with a common mental health condition\, chances are you - or someone you work with\, could use some support. The Mental Health Toolkit is an early introduction 3-hour workshop that provides tools to improve self-awareness about mental wellbeing to enhance the workplace culture and environment. Workshop Overview: Identify -signs and symptoms of Mental Health conditions. Understanding-self-awareness to improve personal wellbeing. Resilience and our wellbeing. Respond- keeping ourselves healthy and safe while supporting others. De-escalation and prevention in the workplace. Communication for strengthened relationships. Tools and strategies to support wellbeing.
X-ALT-DESC;FMTTYPE=text/html:With over 500\,000 Kiwi adults diagnosed with a common mental health condition\, chances are you - or someone you work with\, could use some support. The Mental Health Toolkit is an early introduction 3-hour workshop that provides tools to improve self-awareness about mental wellbeing to enhance the workplace culture and environment. Workshop Overview: Identify -signs and symptoms of Mental Health conditions. Understanding-self-awareness to improve personal wellbeing. Resilience and our wellbeing. Respond- keeping ourselves healthy and safe while supporting others. De-escalation and prevention in the workplace. Communication for strengthened relationships. Tools and strategies to support wellbeing.
LOCATION:Trust Waikato
UID:e.2751.3942
SEQUENCE:3
DTSTAMP:20260425T180142Z
URL:https://business.waikatochamber.co.nz/events/details/mental-health-toolkit-3942
END:VEVENT

END:VCALENDAR
