BEGIN:VCALENDAR
VERSION:2.0
PRODID:-//ChamberMaster//Event Calendar 2.0//EN
METHOD:PUBLISH
X-PUBLISHED-TTL:P3D
REFRESH-INTERVAL:P3D
CALSCALE:GREGORIAN
BEGIN:VEVENT
DTSTART:20231109T040000Z
DTEND:20231109T053000Z
X-MICROSOFT-CDO-ALLDAYEVENT:FALSE
SUMMARY:Member Event: Waikato Offshore Wind Community Information Evening - Raglan
DESCRIPTION:Sponsored by Bluefloat Energy\n\nOffshore wind presents a fantastic opportunity for Aotearoa and for Waikato. Please join BlueFloat Energy & Elemental Group for a free community information evening to hear about our plans to develop the Waikato Offshore Wind project.\n\n\n\nDate: Thursday 9 November\n\nWhere: Function Room\, Raglan Sunset Motel\, 7 Bankart Street\, Raglan\n\nTime: 5-6.30pm\n\nRSVP: info@waikatooffshorewindproject.com
X-ALT-DESC;FMTTYPE=text/html:<u><strong>Sponsored by Bluefloat Energy</strong></u><br />\nOffshore wind presents a fantastic opportunity for Aotearoa and for Waikato. Please join BlueFloat Energy &amp\; Elemental Group for a free community information evening to hear about our plans to develop the Waikato Offshore Wind project.<br />\n<br />\nDate: Thursday 9 November<br />\nWhere: Function Room\, Raglan Sunset Motel\, 7 Bankart Street\, Raglan<br />\nTime: 5-6.30pm<br />\nRSVP: info@waikatooffshorewindproject.com
LOCATION:Function Room - Sunset Motel Raglan Sunset Motel 7 Bankart Street Raglan
UID:e.2751.4344
SEQUENCE:3
DTSTAMP:20260420T132408Z
URL:https://business.waikatochamber.co.nz/events/details/member-event-waikato-offshore-wind-community-information-evening-raglan-4344
END:VEVENT

END:VCALENDAR
