BEGIN:VCALENDAR
VERSION:2.0
PRODID:-//ChamberMaster//Event Calendar 2.0//EN
METHOD:PUBLISH
X-PUBLISHED-TTL:P3D
REFRESH-INTERVAL:P3D
CALSCALE:GREGORIAN
BEGIN:VEVENT
DTSTART:20231102T030000Z
DTEND:20231102T053000Z
X-MICROSOFT-CDO-ALLDAYEVENT:FALSE
SUMMARY:Member Event: SupportHER Sip and Shop Sale
DESCRIPTION:Sponsored by: Dress For Success Hamilton.\n\n\n\nJoin us for our last Sip and Shop event for 2023!\n\n \n\nEnjoy a complimentary drink while you shop for women's preloved designer and quality brand clothes at great prices. \n\n \n\nWe have some amazing clothes just waiting for you to take them home with you. Shop design labels like Trelise Cooper\, Moochi\, Kilt\, Gorman\, Briarwood\, Workshop\, Nes\, Decujba\, Max and a whole lot more.\n\nAll proceeds support Dress for Success Hamilton to help Waikato women to thrive in life and work through our free employment dressing programme.\n\n \n\nEntry is FREE\, so come along and grab a bargain while supporting a great cause.\n\nSpecial thanks to our sponsors Craigs Investment Partners\, for the use of their amazing new space and Lion for supply of the beverages.\n\n \n\nLocation : Craigs Investment Partners\n\nLevel 2/32 Hood Street\, Hamilton Central.
X-ALT-DESC;FMTTYPE=text/html:<div>Sponsored by: Dress For Success Hamilton.<br />\n<br />\nJoin us for our last Sip and Shop event for 2023!<br />\n&nbsp\;</div>\n\n<div>Enjoy a complimentary drink while you shop for women&#39\;s preloved designer and quality brand clothes at great prices.&nbsp\;<br />\n&nbsp\;</div>\n\n<div>We have some amazing clothes just waiting for you to take them home with you. Shop design labels like Trelise Cooper\, Moochi\, Kilt\, Gorman\, Briarwood\, Workshop\, Nes\, Decujba\, Max and a whole lot more.</div>\n\n<div>All proceeds support Dress for Success Hamilton to help Waikato women to thrive in life and work through our free employment dressing programme.<br />\n&nbsp\;</div>\n\n<div>Entry is FREE\, so come along and grab a bargain while supporting a great cause.</div>\n\n<div>Special thanks to our sponsors Craigs Investment Partners\, for the use of their amazing new space and Lion for supply of the beverages.<br />\n&nbsp\;</div>\n\n<div>Location : Craigs Investment Partners<br />\nLevel 2/32 Hood Street\, Hamilton Central.</div>\n
LOCATION:Craigs Investment Partners Level 2/32 Hood Street Hamilton Central
UID:e.2751.4338
SEQUENCE:3
DTSTAMP:20260420T114919Z
URL:https://business.waikatochamber.co.nz/events/details/member-event-supporther-sip-and-shop-sale-4338
END:VEVENT

END:VCALENDAR
