BEGIN:VCALENDAR
VERSION:2.0
PRODID:-//ChamberMaster//Event Calendar 2.0//EN
METHOD:PUBLISH
X-PUBLISHED-TTL:P3D
REFRESH-INTERVAL:P3D
CALSCALE:GREGORIAN
BEGIN:VEVENT
DTSTART:20231130T013000Z
DTEND:20231130T063000Z
X-MICROSOFT-CDO-ALLDAYEVENT:FALSE
SUMMARY:Member Event: Rosy Thriftmas Sale - Dress for Success Hamilton
DESCRIPTION:Sponsored by Dress for Success Hamilton \n\n\n\nMassive 50% off all Rosy stock\n\nThurs 30th 2pm to 7.30pm\n\nFri 1st Dec 10am to 2pm
X-ALT-DESC;FMTTYPE=text/html:Sponsored by Dress for Success Hamilton&nbsp\;<br />\n<br />\nMassive 50% off all Rosy stock<br />\nThurs 30th 2pm to 7.30pm<br />\nFri 1st Dec 10am to 2pm
LOCATION:
UID:e.2751.4361
SEQUENCE:3
DTSTAMP:20260420T115216Z
URL:https://business.waikatochamber.co.nz/events/details/member-event-rosy-thriftmas-sale-dress-for-success-hamilton-4361
END:VEVENT

END:VCALENDAR
