BEGIN:VCALENDAR
VERSION:2.0
PRODID:-//ChamberMaster//Event Calendar 2.0//EN
METHOD:PUBLISH
X-PUBLISHED-TTL:P3D
REFRESH-INTERVAL:P3D
CALSCALE:GREGORIAN
BEGIN:VEVENT
DTSTART:20231103T051500Z
DTEND:20231103T073000Z
X-MICROSOFT-CDO-ALLDAYEVENT:FALSE
SUMMARY:Member Event: Mystery Event - 'Murder at the Estate'
DESCRIPTION:Sponsored by Confinement Escape Rooms Hamilton Ltd: Mark your calendars for Friday\, the 3rd of November\, and choose your session under the cloak of twilight: 6:15pm or 8:30pm. Assemble a team of four to six brave souls\, for this immersive experience. (This game is R13). Step into the realm of intrigue\, where every riddle unraveled brings you closer to the truth. Unleash your inner detective\, for the Woodlands Homestead beckons\, ready to test your mettle. Setting the scene: The daughter of a prominent family has been found dead on the eve of a large birthday celebration. The one and only detective in this small town is overwhelmed with work and really not coping. The parents want their daughter's murder solved and have now put up a huge reward to help find the killer. 8 groups of private investigators are invited in to compete in solving the mystery. Are you one of the teams?
X-ALT-DESC;FMTTYPE=text/html:Sponsored by Confinement Escape Rooms Hamilton Ltd: Mark your calendars for Friday\, the 3rd of November\, and choose your session under the cloak of twilight: 6:15pm or 8:30pm. Assemble a team of four to six brave souls\, for this immersive experience. (This game is R13). Step into the realm of intrigue\, where every riddle unraveled brings you closer to the truth. Unleash your inner detective\, for the Woodlands Homestead beckons\, ready to test your mettle. Setting the scene: The daughter of a prominent family has been found dead on the eve of a large birthday celebration. The one and only detective in this small town is overwhelmed with work and really not coping. The parents want their daughter&#39\;s murder solved and have now put up a huge reward to help find the killer. 8 groups of private investigators are invited in to compete in solving the mystery. Are you one of the teams?
LOCATION:Woodlands Estate - Homestead\, Gardens\, Venue 42 Whitikahu Road\, Taupiri 3791
UID:e.2751.4288
SEQUENCE:3
DTSTAMP:20260420T115025Z
URL:https://business.waikatochamber.co.nz/events/details/member-event-mystery-event-murder-at-the-estate-11-03-2023-4288
END:VEVENT

END:VCALENDAR
