BEGIN:VCALENDAR
VERSION:2.0
PRODID:-//ChamberMaster//Event Calendar 2.0//EN
METHOD:PUBLISH
X-PUBLISHED-TTL:P3D
REFRESH-INTERVAL:P3D
CALSCALE:GREGORIAN
BEGIN:VEVENT
DTSTART:20231128T193000Z
DTEND:20231128T220000Z
X-MICROSOFT-CDO-ALLDAYEVENT:FALSE
SUMMARY:Member Event: Mastering the Art of Exceptional Customer Service
DESCRIPTION:Sponsored by Everest- all about people:\n\nBoost customer satisfaction\, drive business growth and deliver exceptional customer experiences.\n\n\n\nWhat's it about?\n\nThis fast-paced and interactive workshop will equip participants with the knowledge and skills necessary to establish lasting positive customer interactions.\n\nIf you engage with customers (either internal or external) don't miss this opportunity to boost customer satisfaction\, drive business growth and deliver exceptional customer experiences.\n\nLearning Outcomes:\n\n  Understand critical communication factors that influence and impact customer service excellence\n\n  Navigate customer interactions with strategic questioning to create positive outcomes\n\n  Recognise instinctive reactions and learn how to transform them into deliberate responses when faced with challenging customer interactions\n\n  Reinforce active listening and identify your own listening gaps\n\n  Identify phrases that derail interactions and convert them into effective solutions\n\n \n\nCould your team benefit from this workshop?\n\nAll our workshops can be tailored to best meet the needs of your staff and your business. Hold it at yours\, or hold it at ours   what works for you\, works for us. Discounted team pricing available on request.\n\n \n\nCall one of the team at Everest   we're here to help!
X-ALT-DESC;FMTTYPE=text/html:<h4>Sponsored by Everest- all about people:</h4>\n\n<h4>Boost customer satisfaction\, drive business growth and deliver exceptional customer experiences.</h4>\n\n<p><br />\n<strong>What&rsquo\;s it about?</strong></p>\n\n<p>This fast-paced and interactive workshop will equip participants with the knowledge and skills necessary to establish lasting positive customer interactions.</p>\n\n<p>If you engage with customers (either internal or external) don&rsquo\;t miss this opportunity to boost customer satisfaction\, drive business growth and deliver exceptional customer experiences.</p>\n\n<p><strong>Learning Outcomes:</strong></p>\n\n<p>&bull\; Understand critical communication factors that influence and impact customer service excellence<br />\n&bull\; Navigate customer interactions with strategic questioning to create positive outcomes<br />\n&bull\; Recognise instinctive reactions and learn how to transform them into deliberate responses when faced with challenging customer interactions<br />\n&bull\; Reinforce active listening and identify your own listening gaps<br />\n&bull\; Identify phrases that derail interactions and convert them into effective solutions</p>\n\n<p>&nbsp\;</p>\n\n<p><strong>Could your team benefit from this workshop?</strong></p>\n\n<p>All our workshops can be tailored to best meet the needs of your staff and your business. Hold it at yours\, or hold it at ours &ndash\; what works for you\, works for us. Discounted team pricing available on request.</p>\n\n<p>&nbsp\;</p>\n\n<p>Call one of the team at Everest &ndash\; we&rsquo\;re here to help!</p>\n
LOCATION:Everest People Office\, Waikato Innovation Park\, CRV Building\, 2 Melody Lane
UID:e.2751.4340
SEQUENCE:3
DTSTAMP:20260420T132445Z
URL:https://business.waikatochamber.co.nz/events/details/member-event-mastering-the-art-of-exceptional-customer-service-4340
END:VEVENT

END:VCALENDAR
