BEGIN:VCALENDAR
VERSION:2.0
PRODID:-//ChamberMaster//Event Calendar 2.0//EN
METHOD:PUBLISH
X-PUBLISHED-TTL:P3D
REFRESH-INTERVAL:P3D
CALSCALE:GREGORIAN
BEGIN:VEVENT
DTSTART:20231111T183000Z
DTEND:20231112T000000Z
X-MICROSOFT-CDO-ALLDAYEVENT:FALSE
SUMMARY:Member Event: Lugtons Round the Bridges 2023
DESCRIPTION:Sponsored by Classic Events: Every year thousands of runners and walkers descend upon Hamilton City Centre for one of NZ's oldest and most beloved annually contested events\, Lugtons Round the Bridges!\n\nEstablished in 1945 by the Hamilton Harrier Club (now known as Hamilton City Hawks)\, Lugtons Round The Bridges started out as a road race designed to showcase some of NZ's top athletes\, with past participants having included Barry Magee\, Peter Snell and Dick Quax. Given its popularity\, the event grew from strength to strength\, eventually becoming the fantastic community event you see today!\n\nNowadays the event welcomes people of all shapes and sizes\, from primary school students right through to running legends. With finisher's medals for every participant\, on-course musical entertainment and thousands of fun-loving runners and walkers\, Lugtons Round The Bridges offers an awesome day out which the entire family can enjoy.
X-ALT-DESC;FMTTYPE=text/html:<p>Sponsored by Classic Events: Every year thousands of runners and walkers descend upon Hamilton City Centre for one of NZ&#39\;s oldest and most beloved annually contested events\, Lugtons&nbsp\;Round the Bridges!</p>\n\n<p>Established in 1945 by the Hamilton Harrier Club (now known as&nbsp\;<strong><a href="http://www.hamiltoncityhawks.co.nz/" rel="noopener" style="box-sizing: border-box\; background-color: transparent\; color: rgb(0\, 0\, 0)\; text-decoration-line: none\; outline: 0px\;" target="_blank">Hamilton City Hawks</a></strong>)\, Lugtons Round The Bridges started out as a road race designed to showcase&nbsp\;some of NZ&#39\;s top athletes\, with past participants having&nbsp\;included Barry Magee\, Peter Snell and Dick Quax. Given its popularity\, the event grew from strength to strength\, eventually becoming the fantastic&nbsp\;community event&nbsp\;you see today!</p>\n\n<p>Nowadays the event&nbsp\;welcomes people of all shapes and sizes\, from primary school&nbsp\;students right&nbsp\;through to running legends.&nbsp\;With finisher&#39\;s medals for every participant\, on-course musical entertainment and thousands of fun-loving runners and walkers\, Lugtons Round The Bridges offers an awesome day out which the entire family can enjoy.</p>\n
LOCATION:Hamilton Central Start and finish line is located at Garden Place
UID:e.2751.4256
SEQUENCE:3
DTSTAMP:20260420T114710Z
URL:https://business.waikatochamber.co.nz/events/details/member-event-lugtons-round-the-bridges-2023-4256
END:VEVENT

END:VCALENDAR
