BEGIN:VCALENDAR
VERSION:2.0
PRODID:-//ChamberMaster//Event Calendar 2.0//EN
METHOD:PUBLISH
X-PUBLISHED-TTL:P3D
REFRESH-INTERVAL:P3D
CALSCALE:GREGORIAN
BEGIN:VEVENT
DTSTART:20241106T043000Z
DTEND:20241106T060000Z
X-MICROSOFT-CDO-ALLDAYEVENT:FALSE
SUMMARY:Member Event: G.J. Gardner Homes Hamilton "First Home Buyer" information evening
DESCRIPTION:Sponsored by GJ Gardner Homes Hamilton/Waikato \n\n\n\nThinking of building but not sure where to start?\n\n\n\nG.J. Gardner Homes Waikato/Hamilton invites you to our free First Home Builders information evening.\n\n \n\nOur guest speakers include Beattie Rickman Legal Director Jade Silvester\, Financial Adviser Baden Gray from Prosper Group\, along with key members of our team. Together they will guide you through the legal aspects of building\, finance options\, and every step of the build journey\, from initial inquiry to the construction process.\n\n\n\nAs well as gaining valuable insight from guest speakers and team members\, attendees will also get the exciting opportunity to experience our Virtual Reality headset\, allowing you to explore our stunning virtual homes in an immersive way.\n\n\n\nLight refreshments and nibbles provided.\n\n\n\nRSVP by Friday November 1st to secure your spot.
X-ALT-DESC;FMTTYPE=text/html:<p>Sponsored by&nbsp\;<span style="font-size:14px"><span style="font-family:arial">GJ Gardner Homes Hamilton/Waikato&nbsp\;</span></span><br />\n<br />\nThinking of building but not sure where to start?</p>\n\n<div><br />\nG.J. Gardner Homes Waikato/Hamilton invites you to our free First Home Builders information evening.<br />\n&nbsp\;</div>\n\n<div>Our guest speakers include Beattie Rickman Legal Director Jade Silvester\, Financial Adviser Baden Gray from Prosper Group\, along with key members of our team. Together they will guide you through the legal aspects of building\, finance options\, and every step of the build journey\, from initial inquiry to the construction process.</div>\n\n<div><br />\nAs well as gaining valuable insight from guest speakers and team members\, attendees will also get the exciting opportunity to experience our Virtual Reality headset\, allowing you to explore our stunning virtual homes in an immersive way.</div>\n\n<div><br />\nLight refreshments and nibbles provided.</div>\n\n<div><br />\n<a href="https://forms.gle/4HRaNnhednEGb3Ba7">RSVP</a> by Friday November 1st to secure your spot.</div>\n
LOCATION:G.J. Gardner Homes Waikato/Hamilton office 163 Maui Street\, Pukete\, Hamilton 3200 Plenty of parking available
UID:e.2751.4717
SEQUENCE:3
DTSTAMP:20260420T054447Z
URL:https://business.waikatochamber.co.nz/events/details/member-event-g-j-gardner-homes-hamilton-first-home-buyer-information-evening-4717
END:VEVENT

END:VCALENDAR
