BEGIN:VCALENDAR
VERSION:2.0
PRODID:-//ChamberMaster//Event Calendar 2.0//EN
METHOD:PUBLISH
X-PUBLISHED-TTL:P3D
REFRESH-INTERVAL:P3D
CALSCALE:GREGORIAN
BEGIN:VEVENT
DTSTART;VALUE=DATE:20231115
DTEND;VALUE=DATE:20231116
TRANSP:TRANSPARENT
X-MICROSOFT-CDO-ALLDAYEVENT:TRUE
SUMMARY:Member Event: Free Webinar: Misconduct Do’s and Don’ts – How to Handle
DESCRIPTION:Sponsored by Everest People\n\nMisconduct comes in many shapes and forms.  Whether it's a breach of policy or ongoing poor performance\, learn from the experts on how to manage misconduct   especially what you can and can't do!\n\n\n\nBook online here: Free Webinar: Misconduct Do's and Don'ts   How to Handle - Everest People
X-ALT-DESC;FMTTYPE=text/html:<span style="color:rgb(0\, 0\, 0)\; font-family:filsonpro\; font-size:20px"><u><strong>Sponsored by Everest People</strong></u><br />\nMisconduct comes in many shapes and forms.&nbsp\; Whether it&rsquo\;s a breach of policy or ongoing poor performance\, learn from the experts on how to manage misconduct &ndash\; especially what you can and can&rsquo\;t do!<br />\n<br />\nBook online here:&nbsp\;</span><a href="https://everestpeople.co.nz/events/free-webinar-misconduct-dos-and-donts-how-to-handle/">Free Webinar: Misconduct Do&rsquo\;s and Don&rsquo\;ts &ndash\; How to Handle - Everest People</a>
LOCATION:Online
UID:e.2751.4195
SEQUENCE:3
DTSTAMP:20260420T114709Z
URL:https://business.waikatochamber.co.nz/events/details/member-event-free-webinar-misconduct-do-s-and-don-ts-how-to-handle-4195
END:VEVENT

END:VCALENDAR
