BEGIN:VCALENDAR
VERSION:2.0
PRODID:-//ChamberMaster//Event Calendar 2.0//EN
METHOD:PUBLISH
X-PUBLISHED-TTL:P3D
REFRESH-INTERVAL:P3D
CALSCALE:GREGORIAN
BEGIN:VEVENT
DTSTART:20231107T040000Z
DTEND:20231107T070000Z
X-MICROSOFT-CDO-ALLDAYEVENT:FALSE
SUMMARY:Member Event: FREE EVENT 100% EV Truck Experience in Hamilton
DESCRIPTION:Sponsored by: Keith Andrews Trucks \n\n\n\n[FREE EVENT] 100% EV Truck Experience in Hamilton! Turn your vision into reality with this ELECTRIFYINGLY unique opportunity in Hamilton... CONNECT & SHARE with like-minded sustainable transport leaders BOOST YOUR KNOWLEDGE and hear from body builders & industry experts CHECK OUT our 'BUILT READY TO WORK' eCanter range (available now) TEST DRIVE A FUSO eCanter truck HEAR FROM THE EXPERTS + Q&A SESSION Gain insights directly from industry experts\, including body builders\, and connect with like-minded enthusiasts who share your commitment to sustainable transport. We can assure you that the discussions will be as energised as our eCanter - creating a truly electrifying experience.
X-ALT-DESC;FMTTYPE=text/html:Sponsored by: Keith Andrews Trucks&nbsp\;<br />\n<br />\n[FREE EVENT] 100% EV Truck Experience in Hamilton! Turn your vision into reality with this ELECTRIFYINGLY unique opportunity in Hamilton... CONNECT &amp\; SHARE with like-minded sustainable transport leaders BOOST YOUR KNOWLEDGE and hear from body builders &amp\; industry experts CHECK OUT our &lsquo\;BUILT READY TO WORK&rsquo\; eCanter range (available now) TEST DRIVE A FUSO eCanter truck HEAR FROM THE EXPERTS + Q&amp\;A SESSION Gain insights directly from industry experts\, including body builders\, and connect with like-minded enthusiasts who share your commitment to sustainable transport. We can assure you that the discussions will be as energised as our eCanter - creating a truly electrifying experience.
LOCATION:Keith Andrews Hamilton 4 Ruffell Rd\, Te Rapa
UID:e.2751.4342
SEQUENCE:3
DTSTAMP:20260420T114857Z
URL:https://business.waikatochamber.co.nz/events/details/member-event-free-event-100-ev-truck-experience-in-hamilton-4342
END:VEVENT

END:VCALENDAR
