BEGIN:VCALENDAR
VERSION:2.0
PRODID:-//ChamberMaster//Event Calendar 2.0//EN
METHOD:PUBLISH
X-PUBLISHED-TTL:P3D
REFRESH-INTERVAL:P3D
CALSCALE:GREGORIAN
BEGIN:VEVENT
DTSTART;VALUE=DATE:20240515
DTEND;VALUE=DATE:20240517
TRANSP:TRANSPARENT
X-MICROSOFT-CDO-ALLDAYEVENT:TRUE
SUMMARY:Member Event: Financial Skills Workshop
DESCRIPTION:The Financial Skills Workshop is a two-day workshop created for owners\, senior managers and any team member who makes decisions affecting the financial performance of the business. By the end of the workshop\, you'll be able to draw critical insights from your financial statements to develop and implement better budgeting and cash flow management systems.
X-ALT-DESC;FMTTYPE=text/html:The Financial Skills Workshop is a two-day workshop created for owners\, senior managers and any team member who makes decisions affecting the financial performance of the business. By the end of the workshop\, you&rsquo\;ll be able to draw critical insights from your financial statements to develop and implement better budgeting and cash flow management systems.
LOCATION:BNZ Partner Centre\, Hamilton
UID:e.2751.4377
SEQUENCE:3
DTSTAMP:20260423T135935Z
URL:https://business.waikatochamber.co.nz/events/details/member-event-financial-skills-workshop-4377
END:VEVENT

END:VCALENDAR
