BEGIN:VCALENDAR
VERSION:2.0
PRODID:-//ChamberMaster//Event Calendar 2.0//EN
METHOD:PUBLISH
X-PUBLISHED-TTL:P3D
REFRESH-INTERVAL:P3D
CALSCALE:GREGORIAN
BEGIN:VEVENT
DTSTART;VALUE=DATE:20230302
DTEND;VALUE=DATE:20230304
TRANSP:TRANSPARENT
X-MICROSOFT-CDO-ALLDAYEVENT:TRUE
SUMMARY:Member Event: 2023 NZ Economics Forum
DESCRIPTION:Here at the University of Waikato's Management School\, we are well into the swing of making plans for the 2023 New Zealand Economics Forum. Back for its third year\, we are excited to share that this will take place at our Hamilton campus on 2nd and 3rd March 2023.
X-ALT-DESC;FMTTYPE=text/html:<span style="color:black\;"><span style="font-family:helvetica\,sans-serif\;"><span style="font-size:10.5pt\;">Here at the University of Waikato&#39\;s Management School\, we are well into the swing of making plans for the <strong>2023 New Zealand Economics Forum</strong>. Back for its third year\, we are excited to share that this will take place at our Hamilton campus on&nbsp\;<strong>2nd and 3rd March 2023.</strong></span></span></span>
LOCATION:Gallagher Academy of Performing Arts\, University of Waikato\, Hamilton 3216
UID:e.2751.3978
SEQUENCE:3
DTSTAMP:20260425T020605Z
URL:https://business.waikatochamber.co.nz/events/details/member-event-2023-nz-economics-forum-3978
END:VEVENT

END:VCALENDAR
