BEGIN:VCALENDAR
VERSION:2.0
PRODID:-//ChamberMaster//Event Calendar 2.0//EN
METHOD:PUBLISH
X-PUBLISHED-TTL:P3D
REFRESH-INTERVAL:P3D
CALSCALE:GREGORIAN
BEGIN:VEVENT
DTSTART:20180328T043000Z
DTEND:20180328T060000Z
X-MICROSOFT-CDO-ALLDAYEVENT:FALSE
SUMMARY:Masterclass: What it really takes to be a Digital Business
DESCRIPTION:In a world of competing digital demands from Platforms\, Big Data\, AI\, Automation and Mobile Apps - Digital transformation seems a Herculean task.\n\n\n\nTo an exclusive and limited audience\, Dr Peter Reynolds will share examples and his insights into world class digital transformations and their key success factors.\n\n\n\nPeter will provide you with a step-by-step guide of how leading global organisations use customer centric thinking to develop a disciplined roadmap that delivers tangible business benefits at each stage.  This is underpinned by a digital mind-set that is both innovative and low cost\, modular and agile and uses data\, as a strategic asset.\n\n\n\nPeter is a globally recognised and highly sought-after expert in this field.  Based in London as Digital Transformation Director for Capita PLC and with a 25-year career working across the USA\, Europe\, Middle East\, and Asia- Pacific his knowledge and views particularly in the fields of global internet banking and wealth management platforms is sought after by private institutions and governments alike.\n\n\n\nCapita PLC is the UK's leading provider of business process and integrated professional support service solutions\, with 74\,000 staff across the UK\, Europe\, South Africa\, and India and has featured on the Forbes top 100 world innovators list for 2014 and 2015.\n\n\n\nHere in New Zealand for a limited time and with the generous support of the University of Waikato and the Waikato Management School\, this Digital Transformation Masterclass is an event you do not want to miss.\n\n\n\nNumbers are strictly limited make sure you don't miss out\, register your place now.
X-ALT-DESC;FMTTYPE=text/html:<div><big><span style="font-size:14px\;"><span style="background:white\;">In a world of competing digital demands from Platforms\, Big Data\, AI\, Automation and Mobile Apps - Digital transformation seems a Herculean task.</span><br />\n<br />\n<span style="background:white\;">To an exclusive and limited audience\, Dr Peter Reynolds will share examples and his insights into world class digital transformations and their key success factors.</span><br />\n<br />\n<span style="background:white\;">Peter will provide you with a step-by-step guide of how leading global </span>organisations <span style="background:white\;">use customer centric thinking to develop a disciplined roadmap that delivers tangible business benefits at each stage.&nbsp\; This is underpinned by a digital mind-set that is both innovative and low cost\, modular and agile and uses data\, as a strategic asset.</span><br />\n<br />\n<span style="background:white\;">Peter is a globally recognised and highly sought-after expert in this field.&nbsp\; Based in London as Digital Transformation Director for Capita PLC and with a 25-year career </span>working across the USA\, Europe\, Middle East\, and Asia- Pacific his knowledge and views particularly in the fields of global internet banking and wealth management platforms is sought after by private institutions and governments alike.<br />\n<br />\n<span style="background:white\;">Capita PLC is the UK&#39\;s leading provider of business process and integrated professional support service solutions\, with 74\,000 staff across the UK\, Europe\, South Africa\, and India and has featured on the Forbes top 100 world innovators list for 2014 and 2015.</span><br />\n<br />\n<span style="background:white\;">Here in New Zealand for a limited time and with the generous support of the University of Waikato and the Waikato Management School\, this Digital Transformation Masterclass is an event you do not want to miss.<br />\n<br />\nNumbers are strictly limited make sure you don&#39\;t miss out\, register your place now.</span></span></big></div>\n
LOCATION:Te Raupapa Waikato Management School - Room MSB 1.36 Complimentary parking for the event entry through Gate 10 via Silverdale Rd. There will be signposting to the venue located on the lower ground floor.
UID:e.2751.1262
SEQUENCE:3
DTSTAMP:20260423T111432Z
URL:https://business.waikatochamber.co.nz/events/details/masterclass-what-it-really-takes-to-be-a-digital-business-1262
END:VEVENT

END:VCALENDAR
