BEGIN:VCALENDAR
VERSION:2.0
PRODID:-//ChamberMaster//Event Calendar 2.0//EN
METHOD:PUBLISH
X-PUBLISHED-TTL:P3D
REFRESH-INTERVAL:P3D
CALSCALE:GREGORIAN
BEGIN:VEVENT
DTSTART:20200609T030000Z
DTEND:20200609T040000Z
X-MICROSOFT-CDO-ALLDAYEVENT:FALSE
SUMMARY:Marketplace - Online Business Showcase Event - 9 June
DESCRIPTION:Marketplace will be a webinar-style event and is an opportunity for Waikato businesses to showcase their products and services( Please choose Speaker when you register if you want to speak for 90 seconds).\n\nOnce each of the businesses has spoken\, the floor will be opened to questions from the attendees.\n\n\n\nKaren Zhang\, Business Development Manager for The Waikato Chamber of Commerce will start the Marketplace off\, giving an update into what the Chamber has been doing to adapt to this new environment. \n\n\n\nThere will be 20 90 second Marketplace speaking spots available\, and unlimited free attendee spots. \n\n\n\nHave a look at the below video\, this will answer some frequently asked questions.
X-ALT-DESC;FMTTYPE=text/html:Marketplace will be a webinar-style event and is an opportunity for Waikato businesses to showcase their products and services( Please choose Speaker when you register if you want to speak for 90 seconds).<br />\nOnce each of the businesses has spoken\, the floor will be opened to questions from the attendees.<br />\n<br />\nKaren Zhang\, Business Development Manager for The Waikato Chamber of Commerce will start the Marketplace off\, giving an update into what the Chamber has been doing to adapt to this new environment.&nbsp\;<br />\n<br />\nThere will be 20 90 second Marketplace speaking spots available\, and unlimited free attendee spots.&nbsp\;<br />\n<br />\nHave a look at the below video\, this will answer some frequently asked questions.&nbsp\;
LOCATION:Online - this event will be held online\, the link to join will be shared the morning of the event.
UID:e.2751.2733
SEQUENCE:3
DTSTAMP:20260421T165240Z
URL:https://business.waikatochamber.co.nz/events/details/marketplace-online-business-showcase-event-9-june-2733
END:VEVENT

END:VCALENDAR
