BEGIN:VCALENDAR
VERSION:2.0
PRODID:-//ChamberMaster//Event Calendar 2.0//EN
METHOD:PUBLISH
X-PUBLISHED-TTL:P3D
REFRESH-INTERVAL:P3D
CALSCALE:GREGORIAN
BEGIN:VEVENT
DTSTART:20171018T213000Z
DTEND:20171018T230000Z
X-MICROSOFT-CDO-ALLDAYEVENT:FALSE
SUMMARY:Market Forum: British High Commissioner
DESCRIPTION:We invite you to join us to hear from British High Commissioner to New Zealand Jonathan Sinclair\nGet the latest information about:\n\n\n	Brexit\,  \n	UK commercial interests\, \n	the potential UK-NZ FTA\n\nThere will be an opportunity for some Q & A with Jonathan following his talk. This is your chance to farewell Jonathon as his tenure in New Zealand is coming to an end. \n\n \n\nThis event will be FREE for members of EMA\, Waikato & Cambridge Chamber of Commerce and Hamilton Central Business Association. $40 + gst for non-members.
X-ALT-DESC;FMTTYPE=text/html:<h3 align="center" style="text-align:center\;"><br />\n<span style="font-family:arial\;">We invite you to join us to hear from British High Commissioner to New Zealand Jonathan Sinclair</span></h3>\n<span style="font-family:arial\;"><span style="color:gray\;">Get&nbsp\;the latest information about:</span></span>\n\n<ul>\n	<li style="color:gray\;line-height:150%\;-ms-text-size-adjust:100%\;-webkit-text-size-adjust:100%\;"><span style="font-family:arial\;">Brexit\,&nbsp\;&nbsp\;</span></li>\n	<li style="color:gray\;line-height:150%\;-ms-text-size-adjust:100%\;-webkit-text-size-adjust:100%\;"><span style="font-family:arial\;">UK commercial interests\,&nbsp\;</span></li>\n	<li style="color:gray\;line-height:150%\;-ms-text-size-adjust:100%\;-webkit-text-size-adjust:100%\;"><span style="font-family:arial\;">the potential UK-NZ FTA</span></li>\n</ul>\n<span style="font-family:arial\;"><span style="color:gray\;">There will be an opportunity for some Q &amp\; A with Jonathan following his talk. This is your chance to farewell Jonathon as his tenure in New Zealand is coming to an end.&nbsp\;<br />\n&nbsp\;</span></span><br />\n<span style="font-size:12px\;"><span style="font-family: arial\;">This event will be&nbsp\;</span><strong style="font-family: arial\; font-size: 16px\;">FREE</strong><span style="font-family: arial\;">&nbsp\;for members of EMA\, Waikato &amp\; Cambridge&nbsp\;Chamber of Commerce and Hamilton Central Business&nbsp\;Association. $40 + gst&nbsp\;for non-members.</span></span>
LOCATION:IBIS Tainui Hotel (Pukeko Room)\, 18 Alma Street Hamilton
UID:e.2751.1088
SEQUENCE:3
DTSTAMP:20260423T194206Z
URL:https://business.waikatochamber.co.nz/events/details/market-forum-british-high-commissioner-1088
END:VEVENT

END:VCALENDAR
