BEGIN:VCALENDAR
VERSION:2.0
PRODID:-//ChamberMaster//Event Calendar 2.0//EN
METHOD:PUBLISH
X-PUBLISHED-TTL:P3D
REFRESH-INTERVAL:P3D
CALSCALE:GREGORIAN
BEGIN:VEVENT
DTSTART:20161020T230000Z
DTEND:20161021T010000Z
X-MICROSOFT-CDO-ALLDAYEVENT:FALSE
SUMMARY:Luncheon with Wayne Thompson
DESCRIPTION:How the Waikato Inland Port fits into the Strategy
X-ALT-DESC;FMTTYPE=text/html:<span style="font-size:11px\;"><span style="font-family:comic sans ms\;">How the Waikato Inland Port fits into the Strategy</span></span>
LOCATION:Speaker: Wayne Thompson\, GM Strategy\, Supply Chain and CFO talking on the Ports of Auckland's Supply Chain Strategy and Waikato Inland Port Development Wayne joined Ports of Auckland as Chief Financial Officer (CFO) in January 2004. Currently GM Strategy\, Supply Chain and CFO\, Wayne brings strong commercial and financial analysis and focus to existing activities\, development opportunities and initiatives. He is responsible for strategy\, finance\, risk\, Company Secretariat and business development especially the development of POAL's supply chain network and business. He is Chairman of Nexus Logistics Ltd\, Conlinxx Ltd\, Port Connect Ltd\, Bunkers Ships Ltd and a Director of Seafuels Ltd. He was CFO at Owens Group Limited\, a publicly listed freight and logistics company prior to which he spent 13 years with the Comalco Group\, based in New Zealand and Australia. In partnership with the Waikato Branch of the Institute of Directors.
UID:e.2751.23
SEQUENCE:3
DTSTAMP:20260424T154243Z
URL:https://business.waikatochamber.co.nz/events/details/luncheon-with-wayne-thompson-23
END:VEVENT

END:VCALENDAR
