BEGIN:VCALENDAR
VERSION:2.0
PRODID:-//ChamberMaster//Event Calendar 2.0//EN
METHOD:PUBLISH
X-PUBLISHED-TTL:P3D
REFRESH-INTERVAL:P3D
CALSCALE:GREGORIAN
BEGIN:VEVENT
DTSTART:20170524T000000Z
DTEND:20170524T020000Z
X-MICROSOFT-CDO-ALLDAYEVENT:FALSE
SUMMARY:Luncheon with Reserve Bank of New Zealand Governor Graeme Wheeler
DESCRIPTION:Waikato Chamber of Commerce in partnership with the Waikato Branch of the Institute of Directors present\n\nSpeaker: Graeme Wheeler\, Reserve Bank of New Zealand Governor on\n\n"Developments in the New Zealand and global economies"
X-ALT-DESC;FMTTYPE=text/html:<h1><span style="font-size: 12px\;">Waikato Chamber of Commerce in partnership with the Waikato Branch of the Institute of Directors present</span></h1>\n\n<h2><span style="font-size: 12px\;">Speaker: Graeme Wheeler\, Reserve Bank of New Zealand Governor on</span></h2>\n\n<h2><span style="font-size: 12px\;">&ldquo\;Developments in the New Zealand and global economies&rdquo\;</span></h2>\n
LOCATION:Bronze Lounge\, FMG Stadium Waikato
UID:e.2751.49
SEQUENCE:3
DTSTAMP:20260424T034117Z
URL:https://business.waikatochamber.co.nz/events/details/luncheon-with-reserve-bank-of-new-zealand-governor-graeme-wheeler-49
END:VEVENT

END:VCALENDAR
