BEGIN:VCALENDAR
VERSION:2.0
PRODID:-//ChamberMaster//Event Calendar 2.0//EN
METHOD:PUBLISH
X-PUBLISHED-TTL:P3D
REFRESH-INTERVAL:P3D
CALSCALE:GREGORIAN
BEGIN:VEVENT
DTSTART:20220920T000000Z
DTEND:20220920T011500Z
X-MICROSOFT-CDO-ALLDAYEVENT:FALSE
SUMMARY:Lunch with Theresa Gattung
DESCRIPTION:Sponsored by Women In Business Matamata Piako\n\n\n\nNew Zealand business leader\, author\, philanthropist and investor. Perhaps best known for her role as CEO of Telecom New Zealand\, Theresa Gattung was the first female CEO of an NZX listed company. Since leaving Telecom\, she divides her time between professional governance\, entrepreneurial projects\, and philanthropic work.  \n\n\n\nAs co-founder of My Food Bag\, Theresa helped take the start-up to a nationwide company with a turnover of over $130m. \n\n\n\nJoin us for an enlightening lunch as Theresa shares her knowledge around empowering women and navigating today's landscape. \n\n\n\nThis event is hosted by Women In Business Matamata Piako. Tickets are heavily subsidised by our generous sponsors and include a light gourmet lunch by Trio Catering. Non alcoholic refreshments provided\, wine available to purchase.\n\n\n\nDon't miss this exclusive opportunity to hear Theresa in person.
X-ALT-DESC;FMTTYPE=text/html:<u><strong>Sponsored by&nbsp\;Women In Business Matamata Piako</strong></u><br />\n<br />\nNew Zealand business leader\, author\, philanthropist and investor. Perhaps best known for her role as CEO of Telecom New Zealand\, Theresa Gattung was the first female CEO of an NZX listed company. Since leaving Telecom\, she divides her time between professional governance\, entrepreneurial projects\, and philanthropic work.&nbsp\;&nbsp\;<br />\n<br />\nAs co-founder of My Food Bag\, Theresa helped take the start-up to a nationwide company with a turnover of over $130m.&nbsp\;<br />\n<br />\nJoin us for an enlightening lunch as Theresa shares her knowledge around empowering women and navigating today&rsquo\;s landscape.&nbsp\;<br />\n<br />\nThis event is hosted by Women In Business Matamata Piako. Tickets are heavily subsidised by our generous sponsors and include a light gourmet lunch by Trio Catering. Non alcoholic refreshments provided\, wine available to purchase.<br />\n<br />\nDon&rsquo\;t miss this exclusive opportunity to hear Theresa in person.&nbsp\;
LOCATION:Matamata Piako Civic & Memorial Centre\, 11 Tainui Street\, Matamata
UID:e.2751.3927
SEQUENCE:3
DTSTAMP:20260425T180302Z
URL:https://business.waikatochamber.co.nz/events/details/lunch-with-theresa-gattung-3927
END:VEVENT

END:VCALENDAR
