BEGIN:VCALENDAR
VERSION:2.0
PRODID:-//ChamberMaster//Event Calendar 2.0//EN
METHOD:PUBLISH
X-PUBLISHED-TTL:P3D
REFRESH-INTERVAL:P3D
CALSCALE:GREGORIAN
BEGIN:VEVENT
DTSTART:20220511T003000Z
DTEND:20220511T013000Z
X-MICROSOFT-CDO-ALLDAYEVENT:FALSE
SUMMARY:Lunch & Learn - “Restructuring Right – Tips and Traps” - Virtual Event
DESCRIPTION:Get ready for another Employment Law session of Lunch and Learn. This time DTI Director and Employment Law Specialist\, Jaime Lomas will be focusing on business restructures and running through some of the tips and traps that all employers contemplating a restructure should be aware of. There are two key legal elements of any restructure   a fair process and genuine business reasons. Jaime will run through both elements and will also cover what legal obligations employers must meet when restructuring a business.\n\n \n\nHave any burning questions? Please email your questions prior to the event to Jenny.MacGregor@waikatochamber.co.nz   Jaime will ensure these are covered in her presentation.\n\n\n\nRegistrations are required to attend.
X-ALT-DESC;FMTTYPE=text/html:<span style="color:#000000\;">Get ready for another Employment Law session of Lunch and Learn. This time DTI Director and Employment Law Specialist\, Jaime Lomas will be focusing on business restructures and running through some of the tips and traps that all employers contemplating a restructure should be aware of. There are two key legal elements of any restructure &ndash\; a fair process and genuine business reasons. Jaime will run through both elements and will also cover what legal obligations employers must meet when restructuring a business.<br />\n&nbsp\;<br />\n<strong>Have any burning questions? Please email your questions prior to the event to </strong></span><strong><a href="mailto:Jenny.MacGregor@waikatochamber.co.nz"><span style="color:#000000\;">Jenny.MacGregor@waikatochamber.co.nz</span></a></strong><span style="color:#000000\;"><strong> &ndash\; Jaime will ensure these are covered in her presentation.</strong><br />\n<br />\nRegistrations are required to attend.</span>
LOCATION:Online event - the link to join this event will be sent to you when you register.
UID:e.2751.3850
SEQUENCE:3
DTSTAMP:20260419T173101Z
URL:https://business.waikatochamber.co.nz/events/details/lunch-learn-restructuring-right-tips-and-traps-virtual-event-3850
END:VEVENT

END:VCALENDAR
