BEGIN:VCALENDAR
VERSION:2.0
PRODID:-//ChamberMaster//Event Calendar 2.0//EN
METHOD:PUBLISH
X-PUBLISHED-TTL:P3D
REFRESH-INTERVAL:P3D
CALSCALE:GREGORIAN
BEGIN:VEVENT
DTSTART:20231128T233000Z
DTEND:20231129T003000Z
X-MICROSOFT-CDO-ALLDAYEVENT:FALSE
SUMMARY:Lunch & Learn - Performance Management
DESCRIPTION:Get ready for another Employment Law session of Lunch and Learn. Join DTI Lawyers Director and Employment Law Specialist\, Jaime Lomas for another Lunch and Learn Session to look at "Performance Management".  \n\n \n\nHave any burning questions? Please email your questions prior to the event to Danielle.quigg@waikatochamber.co.nz.  Jaime will ensure these are covered in her presentation.\n\n\n\nRegistrations are required to attend.
X-ALT-DESC;FMTTYPE=text/html:<span style="font-size:14px\;"><span style="font-family:arial\;">Get ready for another Employment Law session of Lunch and Learn.&nbsp\;Join DTI Lawyers Director and Employment Law Specialist\, Jaime Lomas for another Lunch and Learn Session to look at &ldquo\;Performance Management&rdquo\;.&nbsp\;&nbsp\;</span></span><br />\n<span style="font-size:14px\;"><span style="font-family:arial\;">&nbsp\;</span></span><br />\n<span style="font-family:arial\;"><span style="font-size:14px\;"><strong>Have any burning questions? Please email your questions prior to the event to <a href="mailto:danielle.quigg@waikatochamber.co.nz ">Danielle.quigg@waikatochamber.co.nz</a>.&nbsp\;&nbsp\;Jaime will ensure these are covered in her presentation.</strong><br />\n<br />\nRegistrations are required to attend.</span></span>
LOCATION:Long Room 2 - Wintec CBD
UID:e.2751.4292
SEQUENCE:3
DTSTAMP:20260420T114403Z
URL:https://business.waikatochamber.co.nz/events/details/lunch-learn-performance-management-4292
END:VEVENT

END:VCALENDAR
