BEGIN:VCALENDAR
VERSION:2.0
PRODID:-//ChamberMaster//Event Calendar 2.0//EN
METHOD:PUBLISH
X-PUBLISHED-TTL:P3D
REFRESH-INTERVAL:P3D
CALSCALE:GREGORIAN
BEGIN:VEVENT
DTSTART:20220712T003000Z
DTEND:20220712T013000Z
X-MICROSOFT-CDO-ALLDAYEVENT:FALSE
SUMMARY:Lunch & Learn - How to grow your business
DESCRIPTION:Join Krystle Brough from +MORE Waikato as she takes a deep dive into the foundations of how to grow a business. Krystle will be covering the core components every business should have\, external factors affecting business owners right now and quick wins to ease the pressure of these\, as well as diving into what a strategic long-term approach could look like for you and your business. If you're a business owner\, this interactive one-hour workshop is not to be missed.\n\n\n\nKrystle is Principal at +MORE Waikato and leads the client relationships and team to deliver success that businesses can see. Krystle has gained top tier business advisory experience through her time in a multi-national accounting firm as well as a practical blend of private sector experience. What this combined experience gives is advice and coaching that business owners can translate immediately to results. Krystle gets straight to the crux of business problems\, pin-pointing immediate areas of focus to ensure business owners create the successful outcomes they are aiming for.
X-ALT-DESC;FMTTYPE=text/html:<span style="font-size:14px\;"><span style="font-family:arial\;">Join Krystle Brough from <a href="https://www.plusmore.co.nz/">+MORE Waikato</a> as she takes a deep dive into the foundations of how to grow a business. Krystle will be covering the core components every business should have\, external factors affecting business owners right now and quick wins to ease the pressure of these\, as well as diving into what a strategic long-term approach could look like for you and your business. If you&rsquo\;re a business owner\, this interactive one-hour workshop is not to be missed.<br />\n<br />\nKrystle is Principal at +MORE Waikato and leads the client relationships and team to deliver success that businesses can see. Krystle has gained top tier business advisory experience through her time in a multi-national accounting firm as well as a practical blend of private sector experience. What this combined experience gives is advice and coaching that business owners can translate immediately to results. Krystle gets straight to the crux of business problems\, pin-pointing immediate areas of focus to ensure business owners create the successful outcomes they are aiming for.</span></span><br />\n<br />\n<br />\n&nbsp\;
LOCATION:In-Person event at Wintec venues - Event Room Two Bring your lunch!
UID:e.2751.3873
SEQUENCE:3
DTSTAMP:20260425T180308Z
URL:https://business.waikatochamber.co.nz/events/details/lunch-learn-how-to-grow-your-business-3873
END:VEVENT

END:VCALENDAR
