BEGIN:VCALENDAR
VERSION:2.0
PRODID:-//ChamberMaster//Event Calendar 2.0//EN
METHOD:PUBLISH
X-PUBLISHED-TTL:P3D
REFRESH-INTERVAL:P3D
CALSCALE:GREGORIAN
BEGIN:VEVENT
DTSTART:20220727T003000Z
DTEND:20220727T013000Z
X-MICROSOFT-CDO-ALLDAYEVENT:FALSE
SUMMARY:Lunch & Learn - How to avoid and manage poor performance in your business
DESCRIPTION:Get ready for another Employment Law session of Lunch and Learn. This time DTI Director and Employment Law Specialist Jaime Lomas will be focusing on performance management. \n\n\n\nFor this session Jaime is going to be discussing managing poor performance and how to conduct a fair and reasonable process.  She will also cover off some of the most common reasons for under performance and some tips for avoiding employee poor performance in your business.  As always\, Jaime will also be available to answer questions on this topic during the session. \n\n\n\nHave any burning questions? Please email your questions prior to the event to Jenny.MacGregor@waikatochamber.co.nz.  Jaime will ensure these are covered in her presentation.\n\n\n\nRegistrations are required to attend.
X-ALT-DESC;FMTTYPE=text/html:<span style="font-size:14px\;"><span style="font-family:arial\;"><span style="color:#000000\;">Get ready for another Employment Law session of Lunch and Learn. This time DTI Director and Employment Law Specialist Jaime Lomas will be focusing on performance management.&nbsp\;</span><br />\n<br />\nFor this session Jaime is going to be discussing managing poor performance and how to conduct a fair and reasonable process.&nbsp\; She will also cover off some of the most common reasons for under performance and some tips for avoiding employee poor performance in your business.&nbsp\; As always\, Jaime will also be available to answer questions on this topic during the session.&nbsp\;<br />\n<br />\n<span style="color:#000000\;"><strong>Have any burning questions? Please email your questions prior to the event to </strong></span><strong><a href="mailto:Jenny.MacGregor@waikatochamber.co.nz"><span style="color:#000000\;">Jenny.MacGregor@waikatochamber.co.nz</span></a>.&nbsp\;</strong><span style="color:#000000\;"><strong>&nbsp\;Jaime will ensure these are covered in her presentation.</strong><br />\n<br />\nRegistrations are required to attend.</span></span></span>
LOCATION:Long Room 2 - Wintec CBD
UID:e.2751.3874
SEQUENCE:3
DTSTAMP:20260425T180200Z
URL:https://business.waikatochamber.co.nz/events/details/lunch-learn-how-to-avoid-and-manage-poor-performance-in-your-business-3874
END:VEVENT

END:VCALENDAR
