BEGIN:VCALENDAR
VERSION:2.0
PRODID:-//ChamberMaster//Event Calendar 2.0//EN
METHOD:PUBLISH
X-PUBLISHED-TTL:P3D
REFRESH-INTERVAL:P3D
CALSCALE:GREGORIAN
BEGIN:VEVENT
DTSTART:20210520T000000Z
DTEND:20210520T010000Z
X-MICROSOFT-CDO-ALLDAYEVENT:FALSE
SUMMARY:Lunch & Learn: Has your website got the essentials?
DESCRIPTION:Lunch & Learn - a new event series for our small businesses to come and learn while growing your network of connections in the Waikato. \n\n\n\nJoin us and Rocketspark for this Lunch & Learn based around your website\, hear from the experts in Website design about what a good website looks like\, what information it includes\, and how to get the most out of your website. \n\n\n\nJason has a background in the digital economy\, including working on ecommerce startups of varying shapes and sizes. Moving into sales and advisory roles\, he has worked alongside many businesses\, big and small\, which has given him significant insight into the challenges that these companies face. \n\n \n\nSpecialising in the digital space\, he's passionate about enabling small business owners to have sustainable\, growing businesses across the globe.. At Rocketspark\, Jason works with the partner channel to develop and grow their businesses as well as helping Rocketspark take off.
X-ALT-DESC;FMTTYPE=text/html:<br />\n<span style="color:#202020\;"><span style="font-family:helvetica\,sans-serif\;"><span style="font-size:12.0pt\;">Lunch &amp\; Learn - a new event series for our small businesses to come and learn while growing your network of connections in the Waikato.&nbsp\;</span></span></span><br />\n<br />\n<span style="font-size:16px\;">Join us and Rocketspark for this Lunch &amp\; Learn based around your website\, hear from the experts in Website design about what a good website looks like\, what information it includes\, and how to get the most out of your website.&nbsp\;</span><br />\n<br />\n<span style="font-size:14px\;">Jason has a background in the digital economy\, including working on ecommerce startups of varying shapes and sizes. Moving into sales and advisory roles\, he has worked alongside many businesses\, big and small\, which has given him significant insight into the challenges that these companies face.&nbsp\;</span><br />\n<span style="font-size:14px\;">&nbsp\;<br />\nSpecialising in the digital space\, he&#39\;s passionate about enabling small business owners to have sustainable\, growing businesses across the globe.. At Rocketspark\, Jason works with the partner channel to develop and grow their businesses as well as helping Rocketspark take off.</span><br />\n&nbsp\;
LOCATION:Trust Waikato\, Little London Street\, Hamilton Central
UID:e.2751.2805
SEQUENCE:3
DTSTAMP:20260426T025042Z
URL:https://business.waikatochamber.co.nz/events/details/lunch-learn-has-your-website-got-the-essentials-2805
END:VEVENT

END:VCALENDAR
