BEGIN:VCALENDAR
VERSION:2.0
PRODID:-//ChamberMaster//Event Calendar 2.0//EN
METHOD:PUBLISH
X-PUBLISHED-TTL:P3D
REFRESH-INTERVAL:P3D
CALSCALE:GREGORIAN
BEGIN:VEVENT
DTSTART:20210630T000000Z
DTEND:20210630T010000Z
X-MICROSOFT-CDO-ALLDAYEVENT:FALSE
SUMMARY:Lunch & Learn - Being a great employer of migrants and former refugees\, with English Language Partners
DESCRIPTION:Being a great employer of migrants and former refugees   challenges\, opportunities and tools to make life easier for everyone. This Lunch & Learn session is brought to you by English Language Partners. \n\n \n\nEnglish Language Partners has been operating in the Waikato for more than 30 years.  We teach English for work and everyday life in New Zealand and help new Kiwis learn the English they need to participate and live independent lives.  Our vision is that former refugees and migrants participate successfully in all aspects of life in Aotearoa New Zealand.  This of course includes taking up meaningful work.  This workshop will help employers and people leaders to understand the challenges that English speakers of other languages face in the workplace   and give them tools they can use right away.\n\nThe session will be presented by Centre Manager Susan Trodden\, and teacher Jo de Lisle\, and cover\n\n\n\n1.            Common reasons why employers get frustrated with staff who speak English as a second language \n\n2.            Things you can do TODAY to make things better for yourself\, your team leaders and your staff regardless of what their first language is\n\n3.            Ways to engage migrant staff and promote inclusion in the workplace\n\n4.            Insights into understanding how other cultures give and receive feedback and how this can impact on things like giving directions to staff\, or undertaking a performance review\n\n5.            What being 'culturally responsive' means and how you can create a safe and welcoming workplace for people of other cultures\n\n6.            Support that is available for employers and employees
X-ALT-DESC;FMTTYPE=text/html:Being a great employer of migrants and former refugees &ndash\; challenges\, opportunities and tools to make life easier for everyone. This Lunch &amp\; Learn session is brought to you by English Language Partners.&nbsp\;<br />\n&nbsp\;<br />\nEnglish Language Partners has been operating in the Waikato for more than 30 years.&nbsp\; We teach English for work and everyday life in New Zealand and help new Kiwis learn the English they need to participate and live independent lives.&nbsp\; Our vision is that former refugees and migrants participate successfully in all aspects of life in Aotearoa New Zealand.&nbsp\; This of course includes taking up meaningful work.&nbsp\; This workshop will help employers and people leaders to understand the challenges that English speakers of other languages face in the workplace &ndash\; and give them tools they can use right away.<br />\nThe session will be presented by Centre Manager Susan Trodden\, and teacher Jo de Lisle\, and cover<br />\n<br />\n1.&nbsp\;&nbsp\;&nbsp\;&nbsp\;&nbsp\;&nbsp\;&nbsp\;&nbsp\;&nbsp\;&nbsp\;&nbsp\; Common reasons why employers get frustrated with staff who speak English as a second language&nbsp\;<br />\n2.&nbsp\;&nbsp\;&nbsp\;&nbsp\;&nbsp\;&nbsp\;&nbsp\;&nbsp\;&nbsp\;&nbsp\;&nbsp\; Things you can do TODAY to make things better for yourself\, your team leaders and your staff regardless of what their first language is<br />\n3.&nbsp\;&nbsp\;&nbsp\;&nbsp\;&nbsp\;&nbsp\;&nbsp\;&nbsp\;&nbsp\;&nbsp\;&nbsp\; Ways to engage migrant staff and promote inclusion in the workplace<br />\n4.&nbsp\;&nbsp\;&nbsp\;&nbsp\;&nbsp\;&nbsp\;&nbsp\;&nbsp\;&nbsp\;&nbsp\;&nbsp\; Insights into understanding how other cultures give and receive feedback and how this can impact on things like giving directions to staff\, or undertaking a performance review<br />\n5.&nbsp\;&nbsp\;&nbsp\;&nbsp\;&nbsp\;&nbsp\;&nbsp\;&nbsp\;&nbsp\;&nbsp\;&nbsp\; What being &lsquo\;culturally responsive&rsquo\; means and how you can create a safe and welcoming workplace for people of other cultures<br />\n6.&nbsp\;&nbsp\;&nbsp\;&nbsp\;&nbsp\;&nbsp\;&nbsp\;&nbsp\;&nbsp\;&nbsp\;&nbsp\; Support that is available for employers and employees<br />\n&nbsp\;
LOCATION:Trust Waikato\, 4 Little London Lane\, Hamilton
UID:e.2751.2815
SEQUENCE:3
DTSTAMP:20260426T041301Z
URL:https://business.waikatochamber.co.nz/events/details/lunch-learn-being-a-great-employer-of-migrants-and-former-refugees-with-english-language-partners-2815
END:VEVENT

END:VCALENDAR
