BEGIN:VCALENDAR
VERSION:2.0
PRODID:-//ChamberMaster//Event Calendar 2.0//EN
METHOD:PUBLISH
X-PUBLISHED-TTL:P3D
REFRESH-INTERVAL:P3D
CALSCALE:GREGORIAN
BEGIN:VEVENT
DTSTART:20190212T000000Z
DTEND:20190212T010000Z
X-MICROSOFT-CDO-ALLDAYEVENT:FALSE
SUMMARY:Local government funding and financing - engagement meeting
DESCRIPTION:The Productivity Commission is conducting an inquiry into local government funding and financing to investigate cost pressures facing councils\, the adequacy of current funding arrangements and make recommendations on potential new funding and financing tools.\n\n\n\nThe terms of reference for the inquiry and issues paper published November 2018 can be found here.\n\n\n\nThe Waikato Chamber of Commerce will be hosting an engagement meeting on the 12th February and invite you to find out more about how local government funding and financing issues affect business in the Waikato.
X-ALT-DESC;FMTTYPE=text/html:The Productivity Commission is conducting an inquiry into local government funding and financing to investigate cost pressures facing councils\, the adequacy of current funding arrangements and make recommendations on potential new funding and financing tools.<br />\n<br />\nThe terms of reference for the inquiry and issues paper published November 2018 can be found <a href="https://www.productivity.govt.nz/inquiry-content/3819?stage=2">here</a>.<br />\n<br />\nThe Waikato Chamber of Commerce will be hosting an engagement meeting on the 12th February and invite you to find out more about how local government funding and financing issues affect business in the Waikato.<br />\n&nbsp\;
LOCATION:Ibis Tainui Hamilton\, 18 Alma Street\, Huia Rooom.
UID:e.2751.2620
SEQUENCE:3
DTSTAMP:20260422T190324Z
URL:https://business.waikatochamber.co.nz/events/details/local-government-funding-and-financing-engagement-meeting-2620
END:VEVENT

END:VCALENDAR
