BEGIN:VCALENDAR
VERSION:2.0
PRODID:-//ChamberMaster//Event Calendar 2.0//EN
METHOD:PUBLISH
X-PUBLISHED-TTL:P3D
REFRESH-INTERVAL:P3D
CALSCALE:GREGORIAN
BEGIN:VEVENT
DTSTART:20200803T040000Z
DTEND:20200803T060000Z
X-MICROSOFT-CDO-ALLDAYEVENT:FALSE
SUMMARY:Lilliputt Fun Zone Social Event
DESCRIPTION:Join us for an event with Lilliputt Fun Zone \n\n\n\nA Social Business event open to you and your families! \n\n \n\nLilliputt Fun Zone\, featuring Ice Age mini golf\, laser tag\, arcade and virtual reality\, now boast Australasia's first 5th Generation Escape Rooms\, testing skills\, intellect and mind blowing themes. Bring the kids along to enjoy an exclusive session in Lilliput Fun Zone while you enjoy an exclusive tour of the escape rooms. Kids will have the opportunity to play Laser Tag in a state of the art arena\, experience industry-leading Virtual Reality\, and play a round of the ever-popular Ice Age Mini Golf. Drinks and nibbles will be provided.\n\n \n\nThere will be 8 escape room pass giveaways on the evening so you can return at a later date to experience the escape rooms.
X-ALT-DESC;FMTTYPE=text/html:<font face="calibri\, sans-serif"><b><span style="font-size:14px\;">Join us for an event with Lilliputt Fun Zone&nbsp\;</span></b></font><br />\n<br />\nA Social Business event open to you and your families!&nbsp\;<br />\n&nbsp\;<br />\n<span style="font-family:calibri\,sans-serif\;"><span style="font-size:11.0pt\;">Lilliputt Fun Zone\, featuring Ice Age mini golf\, laser tag\, arcade and virtual reality\, now boast Australasia&#39\;s first 5<sup>th</sup> Generation Escape Rooms\, testing skills\, intellect and mind blowing themes. Bring the kids along to enjoy an exclusive session in Lilliput Fun Zone while you enjoy an exclusive tour of the escape rooms. Kids will have the opportunity to play Laser Tag in a state of the art arena\, experience industry-leading Virtual Reality\, and play a round of the ever-popular Ice Age Mini Golf. Drinks and nibbles will be provided.<br />\n&nbsp\;<br />\nThere will be 8 escape room pass giveaways on the evening so you can return at a later date to experience the escape rooms.</span></span>
LOCATION:Liliputt Fun Zone\, Centre Place upper level
UID:e.2751.2750
SEQUENCE:3
DTSTAMP:20260421T132429Z
URL:https://business.waikatochamber.co.nz/events/details/lilliputt-fun-zone-social-event-2750
END:VEVENT

END:VCALENDAR
