BEGIN:VCALENDAR
VERSION:2.0
PRODID:-//ChamberMaster//Event Calendar 2.0//EN
METHOD:PUBLISH
X-PUBLISHED-TTL:P3D
REFRESH-INTERVAL:P3D
CALSCALE:GREGORIAN
BEGIN:VEVENT
DTSTART:20210309T193000Z
DTEND:20210310T040000Z
X-MICROSOFT-CDO-ALLDAYEVENT:FALSE
SUMMARY:Leading with Emotional Intelligence
DESCRIPTION:What's it about? This practical 2-day workshop equips you with the foundational skills to become more flexible\, self-aware and people savvy to take your leadership to the next level. Outcomes: Learn practical strategies to respond more skillfully as pressure\, tension and complexity increase. Identify patterns\, triggers and emotional habits that either drive or derail performance. Increase awareness of situations that risk having emotions lead to unskillful behaviour and poor decisions. Gain core skills and critical knowledge to engage people and make good decisions. Take charge of your emotions so that you are in control of your actions. Who should attend? Leaders\, Managers\, Team Leaders\, Supervisors. High potential individuals aspiring to a leadership role. Anyone who wants to increase their influencing skills and ability to manage relationships. Could your team benefit from this workshop? All our workshops can be tailored to best meet the needs of your staff and your business. Hold it at yours\, or hold it at ours   what works for you\, works for us. Discounted team pricing available on request. Workshop dates: 10th & 17th March 2021 This workshop is registered with the Management Capability Development Voucher Fund. You may be eligible to receive 50% discounted training. Talk to us about how we can assist you to use this government initiative. Call one of the team at Everest - we're here to help!
X-ALT-DESC;FMTTYPE=text/html:What&#39\;s it about? This practical 2-day workshop equips you with the foundational skills to become more flexible\, self-aware and people savvy to take your leadership to the next level. Outcomes: Learn practical strategies to respond more skillfully as pressure\, tension and complexity increase. Identify patterns\, triggers and emotional habits that either drive or derail performance. Increase awareness of situations that risk having emotions lead to unskillful behaviour and poor decisions. Gain core skills and critical knowledge to engage people and make good decisions. Take charge of your emotions so that you are in control of your actions. Who should attend? Leaders\, Managers\, Team Leaders\, Supervisors. High potential individuals aspiring to a leadership role. Anyone who wants to increase their influencing skills and ability to manage relationships. Could your team benefit from this workshop? All our workshops can be tailored to best meet the needs of your staff and your business. Hold it at yours\, or hold it at ours &ndash\; what works for you\, works for us. Discounted team pricing available on request. Workshop dates: 10th &amp\; 17th March 2021 This workshop is registered with the Management Capability Development Voucher Fund. You may be eligible to receive 50% discounted training. Talk to us about how we can assist you to use this government initiative. Call one of the team at Everest - we&rsquo\;re here to help!
LOCATION:Waikato Innovation Park\, Ruakura Road\, Gallagher Building\, Ruakura Conference Room\, 1st Floor\, Hamilton
UID:e.2751.2784
SEQUENCE:3
DTSTAMP:20260426T000856Z
URL:https://business.waikatochamber.co.nz/events/details/leading-with-emotional-intelligence-2784
END:VEVENT

END:VCALENDAR
