BEGIN:VCALENDAR
VERSION:2.0
PRODID:-//ChamberMaster//Event Calendar 2.0//EN
METHOD:PUBLISH
X-PUBLISHED-TTL:P3D
REFRESH-INTERVAL:P3D
CALSCALE:GREGORIAN
BEGIN:VEVENT
DTSTART:20220929T030000Z
DTEND:20220929T050000Z
X-MICROSOFT-CDO-ALLDAYEVENT:FALSE
SUMMARY:IT Partners Event | Everything\, Everywhere\, with Microsoft 365
DESCRIPTION:Join IT Partners Everything\, Everywhere event where tips and insights for working with the Microsoft 365 platform will be shared.\n\n\n\nThe event will cover:\n\n\n	Collaboration and communication through Microsoft 365\n	Hybrid working optimised for the future\n	Ensure efficiency\, productivity\, and continuity\n\n\n\n\n\n\nTo learn how to become more productive with digital transformation in the modern workplace: Register Here
X-ALT-DESC;FMTTYPE=text/html:<div>\n<div>\n<p><strong><em>Join IT Partners Everything\, Everywhere event where tips and insights for working with the Microsoft 365 platform will be shared.</em><br />\n<br />\nThe event will cover:</strong></p>\n\n<ul>\n	<li>Collaboration and communication through Microsoft 365</li>\n	<li>Hybrid working optimised for the future</li>\n	<li>Ensure efficiency\, productivity\, and continuity</li>\n</ul>\n</div>\n</div>\n\n<div>\n<div>\n<p>To learn how to become more productive with digital transformation in the modern workplace: <strong><a href="https://www.eventbrite.co.nz/e/everything-everywhere-with-microsoft-365-tickets-406051931257">Register Here</a></strong></p>\n</div>\n</div>\n
LOCATION:The Bank Bar and Brasserie\, 117 Victoria Street\, Hamilton Central
UID:e.2751.3938
SEQUENCE:3
DTSTAMP:20260425T175702Z
URL:https://business.waikatochamber.co.nz/events/details/it-partners-event-everything-everywhere-with-microsoft-365-3938
END:VEVENT

END:VCALENDAR
