BEGIN:VCALENDAR
VERSION:2.0
PRODID:-//ChamberMaster//Event Calendar 2.0//EN
METHOD:PUBLISH
X-PUBLISHED-TTL:P3D
REFRESH-INTERVAL:P3D
CALSCALE:GREGORIAN
BEGIN:VEVENT
DTSTART:20200701T020000Z
DTEND:20200701T030000Z
X-MICROSOFT-CDO-ALLDAYEVENT:FALSE
SUMMARY:Inspire Replay: A chat with Tania Simpson
DESCRIPTION:Cant make it to this month's Inspire with Tania Simpson? We will be doing a virtual replay at 2 pm on Wednesday 1 July. \n\n\n\nThe first Wednesday of every month\, Inspire brings a new inspirational speaker to share their story and connect like-minded people. \n\nInspire events are sponsored by LINK Business Brokers.\n\n\n\nTania\, a former accounting assistant\, threw in the corporate life after over 20 years in banking to create the movable food market in the Waikato. Known for being the mastermind behind Gourmet in the Gardens\, Tania is sure to Inspire!
X-ALT-DESC;FMTTYPE=text/html:<span style="font-size:14px\;">Cant make it to this month&#39\;s Inspire with Tania Simpson? We will be doing a virtual replay at 2 pm on Wednesday 1 July.&nbsp\;</span><br />\n<br />\n<span style="font-size: 12px\;"><span style="font-family: arial\;"><span style="color: rgb(0\, 0\, 0)\;"><span style="font-size: 14px\;">The first Wednesday of every month\, Inspire brings a new inspirational speaker to share their story and connect like-minded people.&nbsp\;<br />\nInspire events are sponsored by&nbsp\;<a href="https://linkbusiness.co.nz/">LINK Business Brokers</a>.</span></span></span></span><br />\n<br />\n<span style="color: rgb(29\, 33\, 41)\; font-family: Helvetica\, Arial\, sans-serif\; font-size: 14px\; white-space: pre-wrap\;">Tania\, a former accounting assistant\, threw in the corporate life after over 20 years in banking to create the movable food market in the Waikato. Known for being the mastermind behind Gourmet in the Gardens\, Tania is sure to Inspire! </span>
LOCATION:Webinar - the link to join will be shared with your confirmation email. Please note this is a recorded version of the real event which will be replayed via webinar.
UID:e.2751.2746
SEQUENCE:3
DTSTAMP:20260421T153026Z
URL:https://business.waikatochamber.co.nz/events/details/inspire-replay-a-chat-with-tania-simpson-2746
END:VEVENT

END:VCALENDAR
