BEGIN:VCALENDAR
VERSION:2.0
PRODID:-//ChamberMaster//Event Calendar 2.0//EN
METHOD:PUBLISH
X-PUBLISHED-TTL:P3D
REFRESH-INTERVAL:P3D
CALSCALE:GREGORIAN
BEGIN:VEVENT
DTSTART:20170704T183000Z
DTEND:20170704T203000Z
X-MICROSOFT-CDO-ALLDAYEVENT:FALSE
SUMMARY:Inspire: A Talk with Tony Egan
DESCRIPTION:Join us over breakfast and a Coffee at the next Inspire morning chat with Tony Egan\, doors open at 6:30am with the presentation starting at 7:00am.
X-ALT-DESC;FMTTYPE=text/html:Join us over breakfast and a Coffee at the next Inspire morning chat with Tony Egan\, doors open at 6:30am with the presentation starting at 7:00am.&nbsp\;
LOCATION:The Ambassador Hotel Hamilton
UID:e.2751.59
SEQUENCE:3
DTSTAMP:20260424T000242Z
URL:https://business.waikatochamber.co.nz/events/details/inspire-a-talk-with-tony-egan-59
END:VEVENT

END:VCALENDAR
