BEGIN:VCALENDAR
VERSION:2.0
PRODID:-//ChamberMaster//Event Calendar 2.0//EN
METHOD:PUBLISH
X-PUBLISHED-TTL:P3D
REFRESH-INTERVAL:P3D
CALSCALE:GREGORIAN
BEGIN:VEVENT
DTSTART:20170801T183000Z
DTEND:20170801T203000Z
X-MICROSOFT-CDO-ALLDAYEVENT:FALSE
SUMMARY:Inspire: A Talk with Tom Andrews
DESCRIPTION:Still arriving\, ordering breakfast if you want ($16 buffet) and networking from 6.30am   6.55am\, hard start from 6.55am but at Classic Cars Museum 11 Railside Place\, Frankton\, Hamilton.\n\n\n\nNot only will you get the unique opportunity to hear from pioneer and founder of the museum Tom Andrews but hear his stories and experience in business and property investment in another intimate interview style approach.  THEN we get a tour of the museum with the man himself - all included!
X-ALT-DESC;FMTTYPE=text/html:Still arriving\, ordering breakfast if you want ($16 buffet) and networking from 6.30am &ndash\; 6.55am\, hard start from 6.55am but at Classic Cars Museum 11 Railside Place\, Frankton\, Hamilton.<br />\n<br />\nNot only will you get the unique opportunity to hear from pioneer and founder of the museum Tom Andrews but hear his stories and experience in business and property investment in another intimate interview style approach.&nbsp\; THEN we get a tour of the museum with the man himself - all included!
LOCATION:Classic Car Museum\, 11 Railside Place\, Frankton
UID:e.2751.65
SEQUENCE:3
DTSTAMP:20260423T224453Z
URL:https://business.waikatochamber.co.nz/events/details/inspire-a-talk-with-tom-andrews-65
END:VEVENT

END:VCALENDAR
