BEGIN:VCALENDAR
VERSION:2.0
PRODID:-//ChamberMaster//Event Calendar 2.0//EN
METHOD:PUBLISH
X-PUBLISHED-TTL:P3D
REFRESH-INTERVAL:P3D
CALSCALE:GREGORIAN
BEGIN:VEVENT
DTSTART:20171003T180000Z
DTEND:20171003T193000Z
X-MICROSOFT-CDO-ALLDAYEVENT:FALSE
SUMMARY:Inspire: A Talk with Jason Dawson
DESCRIPTION:Jason is a seasoned management practitioner with over 18 years' experience in brand\, engagement\, communications\, social media\, marketing and customer experience. Working in various sectors from local government and education\, through to investment banking\, IT and the dairy industry\, Jason now leads Hamilton & Waikato Tourism as its Chief Executive Officer.\n\n\n\n\n\nHe recently completed his Master in Business Administration (MBA) from the University of Waikato\, and is an avid supporter of telling the Waikato story to everyone he meets\, including active promotion of the #lovethetron movement. By day\, he promotes all things Waikato from glowworms to hobbits\, and by night he can be found tweeting & instagramming his latest foodie find as @WebTaniwha.\n\n\n\nJason will share why the mighty Waikato is now the 5th largest region for visitor expenditure in NZ\, as well as some of the challenges and growth opportunities for Hamilton & Waikato to increase the value of tourism for the regional economy.\n\n\n\n \n\n\n\nJoin us for breakfast as we have a chat with Jason.
X-ALT-DESC;FMTTYPE=text/html:Jason is a seasoned management practitioner with over 18 years&#39\; experience in brand\, engagement\, communications\, social media\, marketing and customer experience. Working in various sectors from local government and education\, through to investment banking\, IT and the dairy industry\, Jason now leads Hamilton &amp\; Waikato Tourism as its Chief Executive Officer.<br />\n<br />\n<br />\nHe recently completed his Master in Business Administration (MBA) from the University of Waikato\, and is an avid supporter of telling the Waikato story to everyone he meets\, including active promotion of the #lovethetron movement. By day\, he promotes all things Waikato from glowworms to hobbits\, and by night he can be found tweeting &amp\; instagramming his latest foodie find as @WebTaniwha.<br />\n<br />\nJason will share why the mighty Waikato is now the 5th&nbsp\;largest region for visitor expenditure in NZ\, as well as some of the challenges and growth opportunities for Hamilton &amp\; Waikato to increase the value of tourism for the regional economy.<br />\n<br />\n&nbsp\;<br />\n<br />\nJoin us for breakfast as we have a chat with Jason.
LOCATION:The Jukebox Diner 11 Railside Pl\, Dinsdale\, Hamilton 3204
UID:e.2751.1074
SEQUENCE:3
DTSTAMP:20260423T194139Z
URL:https://business.waikatochamber.co.nz/events/details/inspire-a-talk-with-jason-dawson-1074
END:VEVENT

END:VCALENDAR
